Index of /checkResults/release/bioc-LATEST/stageR/raw-results

[ICO]NameLast modifiedSizeDescription

[DIR]Parent Directory  -  
[   ]info.dcf27-Nov-2022 01:08 277  
[DIR]kjohnson/12-Jul-2022 00:06 -  
[DIR]lconway/27-Nov-2022 01:08 -  
[DIR]nebbiolo2/27-Nov-2022 01:06 -  
[DIR]palomino4/27-Nov-2022 01:07 -