Index of /checkResults/release/bioc-LATEST/sscore/raw-results/palomino3

[ICO]NameLast modifiedSizeDescription

[DIR]Parent Directory  -  
[   ]install-summary.dcf16-Aug-2022 02:22 266  
[TXT]install-out.txt16-Aug-2022 02:22 950  
[   ]checksrc-summary.dcf16-Aug-2022 02:22 442  
[TXT]checksrc-out.txt16-Aug-2022 02:22 4.3K 
[   ]buildsrc-summary.dcf16-Aug-2022 02:22 446  
[TXT]buildsrc-out.txt16-Aug-2022 02:22 834  
[   ]buildbin-summary.dcf16-Aug-2022 02:22 509  
[TXT]buildbin-out.txt16-Aug-2022 02:22 1.1K