Index of /checkResults/release/bioc-LATEST/sscore/raw-results/merida1

[ICO]NameLast modifiedSizeDescription

[DIR]Parent Directory  -  
[TXT]buildbin-out.txt02-Jul-2022 01:08 1.1K 
[   ]buildbin-summary.dcf02-Jul-2022 01:08 523  
[TXT]buildsrc-out.txt02-Jul-2022 01:08 812  
[   ]buildsrc-summary.dcf02-Jul-2022 01:08 424  
[TXT]checksrc-out.txt02-Jul-2022 01:08 4.4K 
[   ]checksrc-summary.dcf02-Jul-2022 01:08 439  
[TXT]install-out.txt02-Jul-2022 01:08 969  
[   ]install-summary.dcf02-Jul-2022 01:08 266