Back to Multiple platform build/check report for BioC 3.18:   simplified   long
ABCDEFGHIJKLMNOPQR[S]TUVWXYZ

This page was generated on 2024-02-29 11:38:20 -0500 (Thu, 29 Feb 2024).

HostnameOSArch (*)R versionInstalled pkgs
nebbiolo2Linux (Ubuntu 22.04.3 LTS)x86_644.3.2 Patched (2023-11-13 r85521) -- "Eye Holes" 4692
palomino4Windows Server 2022 Datacenterx644.3.2 (2023-10-31 ucrt) -- "Eye Holes" 4445
lconwaymacOS 12.7.1 Montereyx86_644.3.2 Patched (2023-11-01 r85457) -- "Eye Holes" 4466
Click on any hostname to see more info about the system (e.g. compilers)      (*) as reported by 'uname -p', except on Windows and Mac OS X

Package 2046/2266HostnameOS / ArchINSTALLBUILDCHECKBUILD BIN
sscore 1.74.0  (landing page)
Richard Kennedy
Snapshot Date: 2024-02-28 14:05:05 -0500 (Wed, 28 Feb 2024)
git_url: https://git.bioconductor.org/packages/sscore
git_branch: RELEASE_3_18
git_last_commit: 79bcdaa
git_last_commit_date: 2023-10-24 09:36:11 -0500 (Tue, 24 Oct 2023)
nebbiolo2Linux (Ubuntu 22.04.3 LTS) / x86_64  OK    OK    ERROR  
palomino4Windows Server 2022 Datacenter / x64  OK    OK    WARNINGS    OK  UNNEEDED, same version is already published
lconwaymacOS 12.7.1 Monterey / x86_64  OK    OK    WARNINGS    OK  UNNEEDED, same version is already published
kjohnson1macOS 13.6.1 Ventura / arm64see weekly results here

BUILD BIN results for sscore on lconway


To the developers/maintainers of the sscore package:
- Allow up to 24 hours (and sometimes 48 hours) for your latest push to git@git.bioconductor.org:packages/sscore.git to reflect on this report. See Troubleshooting Build Report for more information.
- Use the following Renviron settings to reproduce errors and warnings.
- If 'R CMD check' started to fail recently on the Linux builder(s) over a missing dependency, add the missing dependency to 'Suggests:' in your DESCRIPTION file. See Renviron.bioc for more information.

raw results


Summary

Package: sscore
Version: 1.74.0
Command: rm -rf sscore.buildbin-libdir && mkdir sscore.buildbin-libdir && /Users/biocbuild/BBS/utils/build-universal.sh sscore_1.74.0.tar.gz /Library/Frameworks/R.framework/Resources/bin/R sscore.buildbin-libdir
StartedAt: 2024-02-29 01:05:27 -0500 (Thu, 29 Feb 2024)
EndedAt: 2024-02-29 01:05:35 -0500 (Thu, 29 Feb 2024)
EllapsedTime: 7.8 seconds
RetCode: 0
Status:   OK  
PackageFile: sscore_1.74.0.tgz
PackageFileSize: 332.3 KiB

Command output

##############################################################################
##############################################################################
###
### Running command:
###
###   rm -rf sscore.buildbin-libdir && mkdir sscore.buildbin-libdir && /Users/biocbuild/BBS/utils/build-universal.sh sscore_1.74.0.tar.gz /Library/Frameworks/R.framework/Resources/bin/R sscore.buildbin-libdir
###
##############################################################################
##############################################################################


>>>>>>> 
>>>>>>> INSTALLATION WITH 'R CMD INSTALL --preclean --no-multiarch --library=sscore.buildbin-libdir sscore_1.74.0.tar.gz'
>>>>>>> 

* installing *source* package ‘sscore’ ...
** using staged installation
** R
** inst
** byte-compile and prepare package for lazy loading
** help
*** installing help indices
** building package indices
** installing vignettes
** testing if installed package can be loaded from temporary location
Warning: Package 'sscore' is deprecated and will be removed from Bioconductor
  version 3.19
** testing if installed package can be loaded from final location
Warning: Package 'sscore' is deprecated and will be removed from Bioconductor
  version 3.19
** testing if installed package keeps a record of temporary installation path
* DONE (sscore)