Index of /checkResults/release/bioc-LATEST/spatzie/raw-results
Name
Last modified
Size
Description
Parent Directory
-
info.dcf
05-Dec-2023 01:38
272
kunpeng2/
03-Nov-2023 00:41
-
lconway/
05-Dec-2023 01:38
-
nebbiolo2/
05-Dec-2023 01:36
-
palomino4/
05-Dec-2023 01:37
-