Name | Last modified | Size | Description | |
---|---|---|---|---|
Parent Directory | - | |||
buildbin-out.txt | 05-Mar-2024 01:39 | 1.4K | ||
buildbin-summary.dcf | 05-Mar-2024 01:39 | 569 | ||
buildsrc-out.txt | 05-Mar-2024 01:39 | 938 | ||
buildsrc-summary.dcf | 05-Mar-2024 01:39 | 447 | ||
checksrc-out.txt | 05-Mar-2024 01:39 | 4.1K | ||
checksrc-summary.dcf | 05-Mar-2024 01:39 | 470 | ||
install-out.txt | 05-Mar-2024 01:39 | 1.1K | ||
install-summary.dcf | 05-Mar-2024 01:39 | 283 | ||