Name | Last modified | Size | Description | |
---|---|---|---|---|
Parent Directory | - | |||
buildbin-out.txt | 04-May-2024 00:40 | 1.4K | ||
buildbin-summary.dcf | 04-May-2024 00:40 | 572 | ||
buildsrc-out.txt | 04-May-2024 00:40 | 939 | ||
buildsrc-summary.dcf | 04-May-2024 00:40 | 449 | ||
checksrc-out.txt | 04-May-2024 00:40 | 3.9K | ||
checksrc-summary.dcf | 04-May-2024 00:40 | 472 | ||
install-out.txt | 04-May-2024 00:40 | 1.1K | ||
install-summary.dcf | 04-May-2024 00:40 | 283 | ||