Name | Last modified | Size | Description | |
---|---|---|---|---|
Parent Directory | - | |||
buildbin-out.txt | 05-Mar-2024 01:39 | 5.1K | ||
buildbin-summary.dcf | 05-Mar-2024 01:39 | 590 | ||
buildsrc-out.txt | 05-Mar-2024 01:39 | 926 | ||
buildsrc-summary.dcf | 05-Mar-2024 01:39 | 457 | ||
checksrc-out.txt | 05-Mar-2024 01:39 | 3.7K | ||
checksrc-summary.dcf | 05-Mar-2024 01:39 | 484 | ||
install-out.txt | 05-Mar-2024 01:39 | 2.8K | ||
install-summary.dcf | 05-Mar-2024 01:39 | 289 | ||