Back to Multiple platform build/check report for BioC 3.14
ABCDEFGHIJKLMNOPQR[S]TUVWXYZ

This page was generated on 2022-01-14 13:07:13 -0500 (Fri, 14 Jan 2022).

HostnameOSArch (*)R versionInstalled pkgs
nebbiolo2Linux (Ubuntu 20.04.4 LTS)x86_644.1.2 (2021-11-01) -- "Bird Hippie" 4327
tokay2Windows Server 2012 R2 Standardx644.1.2 (2021-11-01) -- "Bird Hippie" 4076
machv2macOS 10.14.6 Mojavex86_644.1.2 (2021-11-01) -- "Bird Hippie" 4137
Click on any hostname to see more info about the system (e.g. compilers)      (*) as reported by 'uname -p', except on Windows and Mac OS X

CHECK results for sparrow on tokay2


To the developers/maintainers of the sparrow package:
- Please allow up to 24 hours (and sometimes 48 hours) for your latest push to git@git.bioconductor.org:packages/sparrow.git to
reflect on this report. See How and When does the builder pull? When will my changes propagate? here for more information.
- Make sure to use the following settings in order to reproduce any error or warning you see on this page.

raw results

Package 1839/2083HostnameOS / ArchINSTALLBUILDCHECKBUILD BIN
sparrow 1.0.2  (landing page)
Steve Lianoglou
Snapshot Date: 2022-01-13 01:55:04 -0500 (Thu, 13 Jan 2022)
git_url: https://git.bioconductor.org/packages/sparrow
git_branch: RELEASE_3_14
git_last_commit: 3329966
git_last_commit_date: 2022-01-05 17:20:42 -0500 (Wed, 05 Jan 2022)
nebbiolo2Linux (Ubuntu 20.04.4 LTS) / x86_64  OK    OK    ERROR  
tokay2Windows Server 2012 R2 Standard / x64  OK    OK    ERROR    OK  
machv2macOS 10.14.6 Mojave / x86_64  OK    OK    ERROR    OK  

Summary

Package: sparrow
Version: 1.0.2
Command: C:\Users\biocbuild\bbs-3.14-bioc\R\bin\R.exe CMD check --force-multiarch --install=check:sparrow.install-out.txt --library=C:\Users\biocbuild\bbs-3.14-bioc\R\library --no-vignettes --timings sparrow_1.0.2.tar.gz
StartedAt: 2022-01-14 02:40:29 -0500 (Fri, 14 Jan 2022)
EndedAt: 2022-01-14 03:20:19 -0500 (Fri, 14 Jan 2022)
EllapsedTime: 2390.4 seconds
RetCode: 1
Status:   ERROR  
CheckDir: sparrow.Rcheck
Warnings: NA

Command output

##############################################################################
##############################################################################
###
### Running command:
###
###   C:\Users\biocbuild\bbs-3.14-bioc\R\bin\R.exe CMD check --force-multiarch --install=check:sparrow.install-out.txt --library=C:\Users\biocbuild\bbs-3.14-bioc\R\library --no-vignettes --timings sparrow_1.0.2.tar.gz
###
##############################################################################
##############################################################################


* using log directory 'C:/Users/biocbuild/bbs-3.14-bioc/meat/sparrow.Rcheck'
* using R version 4.1.2 (2021-11-01)
* using platform: x86_64-w64-mingw32 (64-bit)
* using session charset: ISO8859-1
* using option '--no-vignettes'
* checking for file 'sparrow/DESCRIPTION' ... OK
* checking extension type ... Package
* this is package 'sparrow' version '1.0.2'
* package encoding: UTF-8
* checking package namespace information ... OK
* checking package dependencies ... OK
* checking if this is a source package ... OK
* checking if there is a namespace ... OK
* checking for hidden files and directories ... OK
* checking for portable file names ... OK
* checking whether package 'sparrow' can be installed ... OK
* checking installed package size ... OK
* checking package directory ... OK
* checking 'build' directory ... OK
* checking DESCRIPTION meta-information ... OK
* checking top-level files ... OK
* checking for left-over files ... OK
* checking index information ... OK
* checking package subdirectories ... OK
* checking R files for non-ASCII characters ... OK
* checking R files for syntax errors ... OK
* loading checks for arch 'i386'
** checking whether the package can be loaded ... OK
** checking whether the package can be loaded with stated dependencies ... OK
** checking whether the package can be unloaded cleanly ... OK
** checking whether the namespace can be loaded with stated dependencies ... OK
** checking whether the namespace can be unloaded cleanly ... OK
* loading checks for arch 'x64'
** checking whether the package can be loaded ... OK
** checking whether the package can be loaded with stated dependencies ... OK
** checking whether the package can be unloaded cleanly ... OK
** checking whether the namespace can be loaded with stated dependencies ... OK
** checking whether the namespace can be unloaded cleanly ... OK
* checking dependencies in R code ... OK
* checking S3 generic/method consistency ... OK
* checking replacement functions ... OK
* checking foreign function calls ... OK
* checking R code for possible problems ... NOTE
geneSetsStats: no visible binding for global variable 'direction'
Undefined global functions or variables:
  direction
* checking Rd files ... OK
* checking Rd metadata ... OK
* checking Rd cross-references ... OK
* checking for missing documentation entries ... OK
* checking for code/documentation mismatches ... OK
* checking Rd \usage sections ... OK
* checking Rd contents ... OK
* checking for unstated dependencies in examples ... OK
* checking line endings in Makefiles ... OK
* checking for GNU extensions in Makefiles ... OK
* checking include directives in Makefiles ... OK
* checking files in 'vignettes' ... OK
* checking examples ...
** running examples for arch 'i386' ... OK
Examples with CPU (user + system) or elapsed time > 5s
                        user system elapsed
goseq                   7.64   0.53    8.09
SparrowResult-utilities 5.34   0.30    5.70
geneSetsStats           4.67   0.54    5.08
seas                    4.30   0.64   24.85
** running examples for arch 'x64' ... OK
Examples with CPU (user + system) or elapsed time > 5s
              user system elapsed
goseq         7.50   0.31    7.74
seas          5.42   0.24   25.90
geneSetsStats 5.11   0.36    5.25
* checking for unstated dependencies in 'tests' ... OK
* checking tests ...
** running tests for arch 'i386' ...
  Running 'testthat.R'
 ERROR
Running the tests in 'tests/testthat.R' failed.
Last 13 lines of output:
  74/76 mismatches (average diff: 0.035)
  [1] 0.0876 - 0.1036 == -0.01594
  [2] 0.0876 - 0.0398 ==  0.04781
  [3] 0.1713 - 0.1673 ==  0.00398
  [4] 0.9004 - 0.8008 ==  0.09960
  [5] 0.8845 - 0.8486 ==  0.03586
  [6] 0.3227 - 0.3028 ==  0.01992
  [7] 0.7490 - 0.7092 ==  0.03984
  [8] 0.2390 - 0.1793 ==  0.05976
  [9] 0.3705 - 0.3307 ==  0.03984
  ...
  
  [ FAIL 10 | WARN 0 | SKIP 1 | PASS 1485 ]
  Error: Test failures
  Execution halted
** running tests for arch 'x64' ...
  Running 'testthat.R'
 ERROR
Running the tests in 'tests/testthat.R' failed.
Last 13 lines of output:
  74/76 mismatches (average diff: 0.035)
  [1] 0.0876 - 0.1036 == -0.01594
  [2] 0.0876 - 0.0398 ==  0.04781
  [3] 0.1713 - 0.1673 ==  0.00398
  [4] 0.9004 - 0.8008 ==  0.09960
  [5] 0.8845 - 0.8486 ==  0.03586
  [6] 0.3227 - 0.3028 ==  0.01992
  [7] 0.7490 - 0.7092 ==  0.03984
  [8] 0.2390 - 0.1793 ==  0.05976
  [9] 0.3705 - 0.3307 ==  0.03984
  ...
  
  [ FAIL 10 | WARN 0 | SKIP 1 | PASS 1477 ]
  Error: Test failures
  Execution halted
* checking for unstated dependencies in vignettes ... OK
* checking package vignettes in 'inst/doc' ... OK
* checking running R code from vignettes ... SKIPPED
* checking re-building of vignette outputs ... SKIPPED
* checking PDF version of manual ... OK
* DONE

Status: 2 ERRORs, 1 NOTE
See
  'C:/Users/biocbuild/bbs-3.14-bioc/meat/sparrow.Rcheck/00check.log'
for details.


Installation output

sparrow.Rcheck/00install.out

##############################################################################
##############################################################################
###
### Running command:
###
###   C:\cygwin\bin\curl.exe -O http://155.52.207.166/BBS/3.14/bioc/src/contrib/sparrow_1.0.2.tar.gz && rm -rf sparrow.buildbin-libdir && mkdir sparrow.buildbin-libdir && C:\Users\biocbuild\bbs-3.14-bioc\R\bin\R.exe CMD INSTALL --merge-multiarch --build --library=sparrow.buildbin-libdir sparrow_1.0.2.tar.gz && C:\Users\biocbuild\bbs-3.14-bioc\R\bin\R.exe CMD INSTALL sparrow_1.0.2.zip && rm sparrow_1.0.2.tar.gz sparrow_1.0.2.zip
###
##############################################################################
##############################################################################


  % Total    % Received % Xferd  Average Speed   Time    Time     Time  Current
                                 Dload  Upload   Total   Spent    Left  Speed

  0     0    0     0    0     0      0      0 --:--:-- --:--:-- --:--:--     0
100 3013k  100 3013k    0     0  6156k      0 --:--:-- --:--:-- --:--:-- 6174k

install for i386

* installing *source* package 'sparrow' ...
** using staged installation
** R
** inst
** byte-compile and prepare package for lazy loading
** help
*** installing help indices
  converting help for package 'sparrow'
    finding HTML links ... done
    GeneSetDb-class                         html  
    SparrowResult-utilities                 html  
REDIRECT:topic	 Previous alias or file overwritten by alias: C:/Users/biocbuild/bbs-3.14-bioc/meat/sparrow.buildbin-libdir/00LOCK-sparrow/00new/sparrow/help/geneSetDb.html
    SparrowResult                           html  
    addGeneSetMetadata                      html  
    all.equal.GeneSetDb                     html  
    annotateGeneSetMembership               html  
    calculateIndividualLogFC                html  
    collectionMetadata                      html  
    combine-GeneSetDb-GeneSetDb-method      html  
    combine-SparrowResult-SparrowResult-method
                                            html  
    conform                                 html  
    conversion                              html  
    convertIdentifiers                      html  
    corplot                                 html  
    eigenWeightedMean                       html  
    examples                                html  
    failWith                                html  
    featureIdMap                            html  
    featureIds                              html  
    geneSet                                 html  
    geneSetCollectionURLfunction            html  
    geneSetSummaryByGenes                   html  
    geneSets                                html  
    geneSetsStats                           html  
    getKeggCollection                       html  
    getMSigCollection                       html  
    getPantherCollection                    html  
    getReactomeCollection                   html  
    goseq                                   html  
    gsdScore                                html  
    gskey                                   html  
    hasGeneSet                              html  
    hasGeneSetCollection                    html  
    incidenceMatrix                         html  
    iplot                                   html  
    is.active                               html  
    logFC                                   html  
    mgheatmap                               html  
    mgheatmap2                              html  
    msg                                     html  
    ora                                     html  
    p.matrix                                html  
    randomGeneSetDb                         html  
    renameCollections                       html  
    renameRows                              html  
    results                                 html  
    scale_rows                              html  
    scoreSingleSamples                      html  
    seas                                    html  
    finding level-2 HTML links ... done

    sparrow_methods                         html  
    species_info                            html  
    ssGSEA.normalize                        html  
    sub-GeneSetDb-ANY-ANY-ANY-method        html  
    subset.GeneSetDb                        html  
    subsetByFeatures                        html  
    validateInputs                          html  
    volcanoPlot                             html  
    volcanoStatsTable                       html  
    zScore                                  html  
*** copying figures
** building package indices
** installing vignettes
** testing if installed package can be loaded from temporary location
** testing if installed package can be loaded from final location
** testing if installed package keeps a record of temporary installation path

install for x64

* installing *source* package 'sparrow' ...
** testing if installed package can be loaded
* MD5 sums
packaged installation of 'sparrow' as sparrow_1.0.2.zip
* DONE (sparrow)
* installing to library 'C:/Users/biocbuild/bbs-3.14-bioc/R/library'
package 'sparrow' successfully unpacked and MD5 sums checked

Tests output

sparrow.Rcheck/tests_i386/testthat.Rout.fail


R version 4.1.2 (2021-11-01) -- "Bird Hippie"
Copyright (C) 2021 The R Foundation for Statistical Computing
Platform: i386-w64-mingw32/i386 (32-bit)

R is free software and comes with ABSOLUTELY NO WARRANTY.
You are welcome to redistribute it under certain conditions.
Type 'license()' or 'licence()' for distribution details.

R is a collaborative project with many contributors.
Type 'contributors()' for more information and
'citation()' on how to cite R or R packages in publications.

Type 'demo()' for some demos, 'help()' for on-line help, or
'help.start()' for an HTML browser interface to help.
Type 'q()' to quit R.

> library("sparrow")
> library("testthat")
> library("data.table")
> library("dplyr")

Attaching package: 'dplyr'

The following objects are masked from 'package:data.table':

    between, first, last

The following object is masked from 'package:testthat':

    matches

The following object is masked from 'package:sparrow':

    combine

The following objects are masked from 'package:stats':

    filter, lag

The following objects are masked from 'package:base':

    intersect, setdiff, setequal, union

> 
> test_check("sparrow")

Attaching package: 'magrittr'

The following objects are masked from 'package:testthat':

    equals, is_less_than, not

Warning message:
In fgsea::fgseaMultilevel(pathways, stats, sampleSize = sampleSize,  :
  For some pathways, in reality P-values are less than 1e-50. You can set the `eps` argument to zero for better estimation.
Warning message:
In fgsea::fgseaMultilevel(pathways, stats, sampleSize = sampleSize,  :
  For some pathways, in reality P-values are less than 1e-50. You can set the `eps` argument to zero for better estimation.
Warning message:
In fgsea::fgseaMultilevel(pathways, stats, sampleSize = sampleSize,  :
  For some pathways, in reality P-values are less than 1e-50. You can set the `eps` argument to zero for better estimation.
== Skipped tests ===============================================================
* empty test (1)

== Failed tests ================================================================
-- Failure (test-fgsea.R:16:3): seas calculate t and preranked t match fgsea results --
`{ ... }` did not produce any warnings.
-- Failure (test-fgsea.R:63:3): seas calculate t and preranked t match fgsea results --
mgres$NES not equal to rest$NES.
76/76 mismatches (average diff: 0.013)
[1] -1.620 - -1.584 == -0.036081
[2] -2.124 - -2.107 == -0.017910
[3] -1.788 - -1.797 ==  0.009603
[4] -1.021 - -1.023 ==  0.002098
[5]  1.503 -  1.536 == -0.033088
[6] -1.870 - -1.880 ==  0.009287
[7]  0.653 -  0.658 == -0.005202
[8] -1.592 - -1.592 ==  0.000149
[9] -1.223 - -1.221 == -0.001787
...
-- Failure (test-fgsea.R:64:3): seas calculate t and preranked t match fgsea results --
mgres$pval not equal to rest$pval.
70/76 mismatches (average diff: 0.013)
[1] 3.23e-02 - 0.030758 ==  1.53e-03
[2] 9.20e-06 - 0.000017 == -7.77e-06
[3] 1.13e-03 - 0.001563 == -4.33e-04
[4] 4.82e-01 - 0.446337 ==  3.55e-02
[5] 3.88e-02 - 0.034707 ==  4.12e-03
[6] 6.27e-04 - 0.000284 ==  3.42e-04
[7] 9.24e-01 - 0.905612 ==  1.82e-02
[8] 1.60e-02 - 0.031313 == -1.53e-02
[9] 2.94e-02 - 0.030488 == -1.14e-03
...
-- Failure (test-fgsea.R:67:3): seas calculate t and preranked t match fgsea results --
`{ ... }` did not produce any warnings.
-- Failure (test-fgsea.R:75:3): seas calculate t and preranked t match fgsea results --
rpre[, comp.cols] not equal to mgres[, comp.cols].
Component "pval": Mean relative difference: 0.04614924
-- Failure (test-fgsea.R:78:3): seas calculate t and preranked t match fgsea results --
`{ ... }` did not produce any warnings.
-- Failure (test-fgsea.R:85:3): seas calculate t and preranked t match fgsea results --
res.df[, comp.cols] not equal to mgres[, comp.cols].
Component "pval": Mean relative difference: 0.07044117
-- Failure (test-romer.R:44:3): romer runs equivalently from do.romer vs direct call --
res$pval.up not equal to expected[, "Up"].
70/76 mismatches (average diff: 0.024)
[2]  0.948 - 0.960 == -0.01195
[3]  0.884 - 0.888 == -0.00398
[4]  0.801 - 0.825 == -0.02390
[5]  0.275 - 0.259 ==  0.01594
[6]  0.896 - 0.892 ==  0.00398
[7]  0.450 - 0.490 == -0.03984
[8]  0.948 - 0.964 == -0.01594
[9]  0.582 - 0.562 ==  0.01992
[10] 0.988 - 0.980 ==  0.00797
...
-- Failure (test-romer.R:45:3): romer runs equivalently from do.romer vs direct call --
res$pval.down not equal to expected[, "Down"].
70/76 mismatches (average diff: 0.024)
[2]  0.0558 - 0.0438 ==  0.01195
[3]  0.1195 - 0.1155 ==  0.00398
[4]  0.2032 - 0.1793 ==  0.02390
[5]  0.7291 - 0.7450 == -0.01594
[6]  0.1076 - 0.1116 == -0.00398
[7]  0.5538 - 0.5139 ==  0.03984
[8]  0.0558 - 0.0398 ==  0.01594
[9]  0.4223 - 0.4422 == -0.01992
[10] 0.0159 - 0.0239 == -0.00797
...
-- Failure (test-romer.R:46:3): romer runs equivalently from do.romer vs direct call --
res$pval not equal to expected[, "Mixed"].
74/76 mismatches (average diff: 0.035)
[1] 0.0876 - 0.1036 == -0.01594
[2] 0.0876 - 0.0398 ==  0.04781
[3] 0.1713 - 0.1673 ==  0.00398
[4] 0.9004 - 0.8008 ==  0.09960
[5] 0.8845 - 0.8486 ==  0.03586
[6] 0.3227 - 0.3028 ==  0.01992
[7] 0.7490 - 0.7092 ==  0.03984
[8] 0.2390 - 0.1793 ==  0.05976
[9] 0.3705 - 0.3307 ==  0.03984
...

[ FAIL 10 | WARN 0 | SKIP 1 | PASS 1485 ]
Error: Test failures
Execution halted

sparrow.Rcheck/tests_x64/testthat.Rout.fail


R version 4.1.2 (2021-11-01) -- "Bird Hippie"
Copyright (C) 2021 The R Foundation for Statistical Computing
Platform: x86_64-w64-mingw32/x64 (64-bit)

R is free software and comes with ABSOLUTELY NO WARRANTY.
You are welcome to redistribute it under certain conditions.
Type 'license()' or 'licence()' for distribution details.

R is a collaborative project with many contributors.
Type 'contributors()' for more information and
'citation()' on how to cite R or R packages in publications.

Type 'demo()' for some demos, 'help()' for on-line help, or
'help.start()' for an HTML browser interface to help.
Type 'q()' to quit R.

> library("sparrow")
> library("testthat")
> library("data.table")
> library("dplyr")

Attaching package: 'dplyr'

The following objects are masked from 'package:data.table':

    between, first, last

The following object is masked from 'package:testthat':

    matches

The following object is masked from 'package:sparrow':

    combine

The following objects are masked from 'package:stats':

    filter, lag

The following objects are masked from 'package:base':

    intersect, setdiff, setequal, union

> 
> test_check("sparrow")

Attaching package: 'magrittr'

The following objects are masked from 'package:testthat':

    equals, is_less_than, not

Warning message:
In fgsea::fgseaMultilevel(pathways, stats, sampleSize = sampleSize,  :
  For some pathways, in reality P-values are less than 1e-50. You can set the `eps` argument to zero for better estimation.
Warning message:
In fgsea::fgseaMultilevel(pathways, stats, sampleSize = sampleSize,  :
  For some pathways, in reality P-values are less than 1e-50. You can set the `eps` argument to zero for better estimation.
Warning message:
In fgsea::fgseaMultilevel(pathways, stats, sampleSize = sampleSize,  :
  For some pathways, in reality P-values are less than 1e-50. You can set the `eps` argument to zero for better estimation.
== Skipped tests ===============================================================
* empty test (1)

== Failed tests ================================================================
-- Failure (test-fgsea.R:16:3): seas calculate t and preranked t match fgsea results --
`{ ... }` did not produce any warnings.
-- Failure (test-fgsea.R:63:3): seas calculate t and preranked t match fgsea results --
mgres$NES not equal to rest$NES.
76/76 mismatches (average diff: 0.013)
[1] -1.620 - -1.584 == -0.036081
[2] -2.124 - -2.107 == -0.017910
[3] -1.788 - -1.797 ==  0.009603
[4] -1.021 - -1.023 ==  0.002098
[5]  1.503 -  1.536 == -0.033088
[6] -1.870 - -1.880 ==  0.009287
[7]  0.653 -  0.658 == -0.005202
[8] -1.592 - -1.592 ==  0.000149
[9] -1.223 - -1.221 == -0.001787
...
-- Failure (test-fgsea.R:64:3): seas calculate t and preranked t match fgsea results --
mgres$pval not equal to rest$pval.
70/76 mismatches (average diff: 0.013)
[1] 3.23e-02 - 0.030758 ==  1.53e-03
[2] 9.20e-06 - 0.000017 == -7.77e-06
[3] 1.13e-03 - 0.001563 == -4.33e-04
[4] 4.82e-01 - 0.446337 ==  3.55e-02
[5] 3.88e-02 - 0.034707 ==  4.12e-03
[6] 6.27e-04 - 0.000284 ==  3.42e-04
[7] 9.24e-01 - 0.905612 ==  1.82e-02
[8] 1.60e-02 - 0.031313 == -1.53e-02
[9] 2.94e-02 - 0.030488 == -1.14e-03
...
-- Failure (test-fgsea.R:67:3): seas calculate t and preranked t match fgsea results --
`{ ... }` did not produce any warnings.
-- Failure (test-fgsea.R:75:3): seas calculate t and preranked t match fgsea results --
rpre[, comp.cols] not equal to mgres[, comp.cols].
Component "pval": Mean relative difference: 0.04614924
-- Failure (test-fgsea.R:78:3): seas calculate t and preranked t match fgsea results --
`{ ... }` did not produce any warnings.
-- Failure (test-fgsea.R:85:3): seas calculate t and preranked t match fgsea results --
res.df[, comp.cols] not equal to mgres[, comp.cols].
Component "pval": Mean relative difference: 0.07044117
-- Failure (test-romer.R:44:3): romer runs equivalently from do.romer vs direct call --
res$pval.up not equal to expected[, "Up"].
70/76 mismatches (average diff: 0.024)
[2]  0.948 - 0.960 == -0.01195
[3]  0.884 - 0.888 == -0.00398
[4]  0.801 - 0.825 == -0.02390
[5]  0.275 - 0.259 ==  0.01594
[6]  0.896 - 0.892 ==  0.00398
[7]  0.450 - 0.490 == -0.03984
[8]  0.948 - 0.964 == -0.01594
[9]  0.582 - 0.562 ==  0.01992
[10] 0.988 - 0.980 ==  0.00797
...
-- Failure (test-romer.R:45:3): romer runs equivalently from do.romer vs direct call --
res$pval.down not equal to expected[, "Down"].
70/76 mismatches (average diff: 0.024)
[2]  0.0558 - 0.0438 ==  0.01195
[3]  0.1195 - 0.1155 ==  0.00398
[4]  0.2032 - 0.1793 ==  0.02390
[5]  0.7291 - 0.7450 == -0.01594
[6]  0.1076 - 0.1116 == -0.00398
[7]  0.5538 - 0.5139 ==  0.03984
[8]  0.0558 - 0.0398 ==  0.01594
[9]  0.4223 - 0.4422 == -0.01992
[10] 0.0159 - 0.0239 == -0.00797
...
-- Failure (test-romer.R:46:3): romer runs equivalently from do.romer vs direct call --
res$pval not equal to expected[, "Mixed"].
74/76 mismatches (average diff: 0.035)
[1] 0.0876 - 0.1036 == -0.01594
[2] 0.0876 - 0.0398 ==  0.04781
[3] 0.1713 - 0.1673 ==  0.00398
[4] 0.9004 - 0.8008 ==  0.09960
[5] 0.8845 - 0.8486 ==  0.03586
[6] 0.3227 - 0.3028 ==  0.01992
[7] 0.7490 - 0.7092 ==  0.03984
[8] 0.2390 - 0.1793 ==  0.05976
[9] 0.3705 - 0.3307 ==  0.03984
...

[ FAIL 10 | WARN 0 | SKIP 1 | PASS 1477 ]
Error: Test failures
Execution halted

Example timings

sparrow.Rcheck/examples_i386/sparrow-Ex.timings

nameusersystemelapsed
GeneSetDb-class0.130.000.16
SparrowResult-utilities5.340.305.70
addGeneSetMetadata0.090.020.08
annotateGeneSetMembership4.390.214.51
calculateIndividualLogFC2.640.042.68
collectionMetadata0.060.010.07
combine-GeneSetDb-GeneSetDb-method0.050.060.11
combine-SparrowResult-SparrowResult-method0.250.070.63
conform0.630.060.69
conversion0.620.050.67
convertIdentifiers0.700.010.72
corplot0.110.000.11
eigenWeightedMean1.780.021.78
examples0.290.030.31
failWith000
featureIdMap0.50.00.5
featureIds0.440.000.44
geneSet0.110.000.11
geneSetCollectionURLfunction0.060.000.06
geneSetSummaryByGenes3.660.153.69
geneSets0.060.000.06
geneSetsStats4.670.545.08
getKeggCollection000
getMSigCollection000
getPantherCollection000
getReactomeCollection000
goseq7.640.538.09
gsdScore1.560.031.60
gskey000
hasGeneSet0.060.000.06
hasGeneSetCollection0.050.000.04
incidenceMatrix0.950.020.97
iplot1.020.141.16
is.active0.610.391.71
logFC3.500.173.60
mgheatmap000
mgheatmap2000
msg000
ora0.560.421.72
p.matrix0.140.000.14
randomGeneSetDb0.270.351.36
renameCollections0.150.000.16
renameRows0.570.010.57
results0.120.000.13
scale_rows0.020.000.02
scoreSingleSamples4.450.274.79
seas 4.30 0.6424.85
sparrow_methods000
species_info000
subset.GeneSetDb0.080.030.11
subsetByFeatures0.080.030.11
validateInputs0.310.411.42
volcanoPlot2.080.172.25
volcanoStatsTable0.050.020.06
zScore0.680.070.77

sparrow.Rcheck/examples_x64/sparrow-Ex.timings

nameusersystemelapsed
GeneSetDb-class0.100.000.11
SparrowResult-utilities4.350.114.42
addGeneSetMetadata0.710.000.70
annotateGeneSetMembership4.700.264.80
calculateIndividualLogFC3.110.003.11
collectionMetadata0.140.000.14
combine-GeneSetDb-GeneSetDb-method0.140.040.15
combine-SparrowResult-SparrowResult-method0.190.000.19
conform0.550.000.55
conversion0.680.010.70
convertIdentifiers0.350.020.33
corplot0.140.000.14
eigenWeightedMean2.230.002.22
examples0.350.010.36
failWith000
featureIdMap0.480.000.48
featureIds1.160.001.16
geneSet0.110.000.09
geneSetCollectionURLfunction0.060.000.06
geneSetSummaryByGenes4.540.104.57
geneSets0.070.010.07
geneSetsStats5.110.365.25
getKeggCollection000
getMSigCollection000
getPantherCollection000
getReactomeCollection000
goseq7.500.317.74
gsdScore1.000.000.98
gskey000
hasGeneSet0.070.000.07
hasGeneSetCollection0.070.020.06
incidenceMatrix1.560.001.56
iplot2.300.192.83
is.active0.680.371.80
logFC4.490.114.50
mgheatmap000
mgheatmap2000
msg000
ora0.420.341.48
p.matrix0.130.000.13
randomGeneSetDb0.180.361.25
renameCollections0.140.020.14
renameRows0.600.000.59
results0.120.000.12
scale_rows000
scoreSingleSamples4.600.174.79
seas 5.42 0.2425.90
sparrow_methods000
species_info000
subset.GeneSetDb0.090.000.10
subsetByFeatures0.160.000.15
validateInputs0.170.431.31
volcanoPlot2.190.082.27
volcanoStatsTable0.060.000.06
zScore0.890.050.94