Back to Multiple platform build/check report for BioC 3.16:   simplified   long
ABCDEFGHIJKLMNOPQR[S]TUVWXYZ

This page was generated on 2023-02-03 11:06:30 -0500 (Fri, 03 Feb 2023).

HostnameOSArch (*)R versionInstalled pkgs
nebbiolo2Linux (Ubuntu 20.04.5 LTS)x86_644.2.2 (2022-10-31) -- "Innocent and Trusting" 4511
palomino4Windows Server 2022 Datacenterx644.2.2 (2022-10-31 ucrt) -- "Innocent and Trusting" 4289
lconwaymacOS 12.5.1 Montereyx86_644.2.2 (2022-10-31) -- "Innocent and Trusting" 4318
Click on any hostname to see more info about the system (e.g. compilers)      (*) as reported by 'uname -p', except on Windows and Mac OS X

BUILD results for sparrow on palomino4


To the developers/maintainers of the sparrow package:
- Please allow up to 24 hours (and sometimes 48 hours) for your latest push to git@git.bioconductor.org:packages/sparrow.git to
reflect on this report. See How and When does the builder pull? When will my changes propagate? for more information.
- Make sure to use the following settings in order to reproduce any error or warning you see on this page.

raw results

Package 1919/2183HostnameOS / ArchINSTALLBUILDCHECKBUILD BIN
sparrow 1.4.0  (landing page)
Steve Lianoglou
Snapshot Date: 2023-02-02 14:00:04 -0500 (Thu, 02 Feb 2023)
git_url: https://git.bioconductor.org/packages/sparrow
git_branch: RELEASE_3_16
git_last_commit: 71b4d4c
git_last_commit_date: 2022-11-01 11:25:47 -0500 (Tue, 01 Nov 2022)
nebbiolo2Linux (Ubuntu 20.04.5 LTS) / x86_64  OK    OK    OK  UNNEEDED, same version is already published
palomino4Windows Server 2022 Datacenter / x64  OK    OK    OK    OK  UNNEEDED, same version is already published
lconwaymacOS 12.5.1 Monterey / x86_64  OK    OK    OK    OK  UNNEEDED, same version is already published

Summary

Package: sparrow
Version: 1.4.0
Command: chmod a+r sparrow -R && F:\biocbuild\bbs-3.16-bioc\R\bin\R.exe CMD build --keep-empty-dirs --no-resave-data sparrow
StartedAt: 2023-02-02 21:47:00 -0500 (Thu, 02 Feb 2023)
EndedAt: 2023-02-02 21:50:40 -0500 (Thu, 02 Feb 2023)
EllapsedTime: 220.3 seconds
RetCode: 0
Status:   OK  
PackageFile: sparrow_1.4.0.tar.gz
PackageFileSize: 3.847 MiB

Command output

##############################################################################
##############################################################################
###
### Running command:
###
###   chmod a+r sparrow -R && F:\biocbuild\bbs-3.16-bioc\R\bin\R.exe CMD build --keep-empty-dirs --no-resave-data sparrow
###
##############################################################################
##############################################################################


* checking for file 'sparrow/DESCRIPTION' ... OK
* preparing 'sparrow':
* checking DESCRIPTION meta-information ... OK
* installing the package to build vignettes
* creating vignettes ... OK
* checking for LF line-endings in source and make files and shell scripts
* checking for empty or unneeded directories
Omitted 'LazyData' from DESCRIPTION
* building 'sparrow_1.4.0.tar.gz'