Index of /checkResults/release/bioc-LATEST/soGGi/raw-results/nebbiolo2

[ICO]NameLast modifiedSizeDescription

[DIR]Parent Directory  -  
[TXT]buildsrc-out.txt30-Mar-2024 00:36 1.4K 
[   ]buildsrc-summary.dcf30-Mar-2024 00:36 411  
[TXT]checksrc-out.txt30-Mar-2024 00:36 5.2K 
[   ]checksrc-summary.dcf30-Mar-2024 00:36 406  
[TXT]install-out.txt30-Mar-2024 00:36 954  
[   ]install-summary.dcf30-Mar-2024 00:36 255