Index of /checkResults/release/bioc-LATEST/soGGi/raw-results/kunpeng2

[ICO]NameLast modifiedSizeDescription

[DIR]Parent Directory  -  
[TXT]buildsrc-out.txt03-Nov-2023 00:41 1.4K 
[   ]buildsrc-summary.dcf03-Nov-2023 00:41 406  
[TXT]checksrc-out.txt03-Nov-2023 00:41 5.1K 
[   ]checksrc-summary.dcf03-Nov-2023 00:41 409  
[TXT]install-out.txt03-Nov-2023 00:41 942  
[   ]install-summary.dcf03-Nov-2023 00:41 249