Back to Multiple platform build/check report for BioC 3.18:   simplified   long
ABCDEFGHIJKLMNOPQR[S]TUVWXYZ

This page was generated on 2024-03-04 11:36:05 -0500 (Mon, 04 Mar 2024).

HostnameOSArch (*)R versionInstalled pkgs
nebbiolo2Linux (Ubuntu 22.04.3 LTS)x86_644.3.2 Patched (2023-11-13 r85521) -- "Eye Holes" 4692
palomino4Windows Server 2022 Datacenterx644.3.2 (2023-10-31 ucrt) -- "Eye Holes" 4445
lconwaymacOS 12.7.1 Montereyx86_644.3.2 Patched (2023-11-01 r85457) -- "Eye Holes" 4466
Click on any hostname to see more info about the system (e.g. compilers)      (*) as reported by 'uname -p', except on Windows and Mac OS X

Package 1996/2266HostnameOS / ArchINSTALLBUILDCHECKBUILD BIN
soGGi 1.34.0  (landing page)
Tom Carroll
Snapshot Date: 2024-03-03 14:05:05 -0500 (Sun, 03 Mar 2024)
git_url: https://git.bioconductor.org/packages/soGGi
git_branch: RELEASE_3_18
git_last_commit: 420bae0
git_last_commit_date: 2023-10-24 10:43:06 -0500 (Tue, 24 Oct 2023)
nebbiolo2Linux (Ubuntu 22.04.3 LTS) / x86_64  OK    OK    OK  UNNEEDED, same version is already published
palomino4Windows Server 2022 Datacenter / x64  OK    OK    OK    OK  UNNEEDED, same version is already published
lconwaymacOS 12.7.1 Monterey / x86_64  OK    OK    OK    OK  UNNEEDED, same version is already published
kjohnson1macOS 13.6.1 Ventura / arm64see weekly results here

BUILD results for soGGi on nebbiolo2


To the developers/maintainers of the soGGi package:
- Allow up to 24 hours (and sometimes 48 hours) for your latest push to git@git.bioconductor.org:packages/soGGi.git to reflect on this report. See Troubleshooting Build Report for more information.
- Use the following Renviron settings to reproduce errors and warnings.
- If 'R CMD check' started to fail recently on the Linux builder(s) over a missing dependency, add the missing dependency to 'Suggests:' in your DESCRIPTION file. See Renviron.bioc for more information.

raw results


Summary

Package: soGGi
Version: 1.34.0
Command: /home/biocbuild/bbs-3.18-bioc/R/bin/R CMD build --keep-empty-dirs --no-resave-data soGGi
StartedAt: 2024-03-03 19:16:10 -0500 (Sun, 03 Mar 2024)
EndedAt: 2024-03-03 19:17:24 -0500 (Sun, 03 Mar 2024)
EllapsedTime: 74.2 seconds
RetCode: 0
Status:   OK  
PackageFile: soGGi_1.34.0.tar.gz
PackageFileSize: 3.275 MiB

Command output

##############################################################################
##############################################################################
###
### Running command:
###
###   /home/biocbuild/bbs-3.18-bioc/R/bin/R CMD build --keep-empty-dirs --no-resave-data soGGi
###
##############################################################################
##############################################################################


* checking for file ‘soGGi/DESCRIPTION’ ... OK
* preparing ‘soGGi’:
* checking DESCRIPTION meta-information ... OK
* installing the package to build vignettes
* creating vignettes ... OK
Warning: ‘inst/doc’ files
    ‘soggi.Rnw’, ‘soggi.pdf’
  ignored as vignettes have been rebuilt.
  Run R CMD build with --no-build-vignettes to prevent rebuilding.
* checking for LF line-endings in source and make files and shell scripts
* checking for empty or unneeded directories
* looking to see if a ‘data/datalist’ file should be added
  NB: this package now depends on R (>= 3.5.0)
  WARNING: Added dependency on R >= 3.5.0 because serialized objects in
  serialize/load version 3 cannot be read in older versions of R.
  File(s) containing such objects:
    ‘soGGi/data/chipExampleBig.rda’ ‘soGGi/data/ik_Example.rda’
    ‘soGGi/data/ik_Profiles.rda’ ‘soGGi/data/singleGRange.rda’
* building ‘soGGi_1.34.0.tar.gz’