Name | Last modified | Size | Description | |
---|---|---|---|---|
Parent Directory | - | |||
install-summary.dcf | 31-May-2024 00:35 | 271 | ||
install-out.txt | 31-May-2024 00:35 | 9.8K | ||
buildsrc-summary.dcf | 31-May-2024 00:35 | 430 | ||
buildsrc-out.txt | 31-May-2024 00:35 | 945 | ||
checksrc-out.txt | 31-May-2024 00:35 | 5.4K | ||
checksrc-summary.dcf | 31-May-2024 00:35 | 453 | ||
buildbin-summary.dcf | 31-May-2024 00:35 | 536 | ||
buildbin-out.txt | 31-May-2024 00:35 | 12K | ||