Name | Last modified | Size | Description | |
---|---|---|---|---|
Parent Directory | - | |||
buildsrc-out.txt | 10-May-2024 00:41 | 946 | ||
buildsrc-summary.dcf | 10-May-2024 00:41 | 431 | ||
checksrc-out.txt | 10-May-2024 00:41 | 6.4K | ||
checksrc-summary.dcf | 10-May-2024 00:41 | 460 | ||
install-out.txt | 10-May-2024 00:41 | 11K | ||
install-summary.dcf | 10-May-2024 00:41 | 272 | ||