Back to Multiple platform build/check report for BioC 3.13
ABCDEFGHIJKLMNOPQR[S]TUVWXYZ

This page was generated on 2021-10-13 15:06:08 -0400 (Wed, 13 Oct 2021).

CHECK results for snapCGH on machv2

To the developers/maintainers of the snapCGH package:
- Please allow up to 24 hours (and sometimes 48 hours) for your latest push to git@git.bioconductor.org:packages/snapCGH.git to
reflect on this report. See How and When does the builder pull? When will my changes propagate? here for more information.
- Make sure to use the following settings in order to reproduce any error or warning you see on this page.

raw results

Package 1796/2041HostnameOS / ArchINSTALLBUILDCHECKBUILD BIN
snapCGH 1.62.0  (landing page)
John Marioni
Snapshot Date: 2021-10-12 04:50:13 -0400 (Tue, 12 Oct 2021)
git_url: https://git.bioconductor.org/packages/snapCGH
git_branch: RELEASE_3_13
git_last_commit: 17b1083
git_last_commit_date: 2021-05-19 11:36:52 -0400 (Wed, 19 May 2021)
nebbiolo1Linux (Ubuntu 20.04.2 LTS) / x86_64  OK    OK    OK  UNNEEDED, same version is already published
tokay2Windows Server 2012 R2 Standard / x64  OK    OK    OK    OK  UNNEEDED, same version is already published
machv2macOS 10.14.6 Mojave / x86_64  OK    OK    OK    OK  UNNEEDED, same version is already published

Summary

Package: snapCGH
Version: 1.62.0
Command: /Library/Frameworks/R.framework/Versions/Current/Resources/bin/R CMD check --install=check:snapCGH.install-out.txt --library=/Library/Frameworks/R.framework/Versions/Current/Resources/library --no-vignettes --timings snapCGH_1.62.0.tar.gz
StartedAt: 2021-10-12 23:59:47 -0400 (Tue, 12 Oct 2021)
EndedAt: 2021-10-13 00:03:05 -0400 (Wed, 13 Oct 2021)
EllapsedTime: 198.3 seconds
RetCode: 0
Status:   OK  
CheckDir: snapCGH.Rcheck
Warnings: 0

Command output

##############################################################################
##############################################################################
###
### Running command:
###
###   /Library/Frameworks/R.framework/Versions/Current/Resources/bin/R CMD check --install=check:snapCGH.install-out.txt --library=/Library/Frameworks/R.framework/Versions/Current/Resources/library --no-vignettes --timings snapCGH_1.62.0.tar.gz
###
##############################################################################
##############################################################################


* using log directory ‘/Users/biocbuild/bbs-3.13-bioc/meat/snapCGH.Rcheck’
* using R version 4.1.1 (2021-08-10)
* using platform: x86_64-apple-darwin17.0 (64-bit)
* using session charset: UTF-8
* using option ‘--no-vignettes’
* checking for file ‘snapCGH/DESCRIPTION’ ... OK
* this is package ‘snapCGH’ version ‘1.62.0’
* checking package namespace information ... OK
* checking package dependencies ... OK
* checking if this is a source package ... OK
* checking if there is a namespace ... OK
* checking for hidden files and directories ... NOTE
Found the following hidden files and directories:
  .git_fetch_output.txt
  .git_merge_output.txt
These were most likely included in error. See section ‘Package
structure’ in the ‘Writing R Extensions’ manual.
* checking for portable file names ... OK
* checking for sufficient/correct file permissions ... OK
* checking whether package ‘snapCGH’ can be installed ... OK
* checking installed package size ... OK
* checking package directory ... OK
* checking ‘build’ directory ... OK
* checking DESCRIPTION meta-information ... OK
* checking top-level files ... OK
* checking for left-over files ... OK
* checking index information ... OK
* checking package subdirectories ... OK
* checking R files for non-ASCII characters ... OK
* checking R files for syntax errors ... OK
* checking whether the package can be loaded ... OK
* checking whether the package can be loaded with stated dependencies ... OK
* checking whether the package can be unloaded cleanly ... OK
* checking whether the namespace can be loaded with stated dependencies ... OK
* checking whether the namespace can be unloaded cleanly ... OK
* checking dependencies in R code ... OK
* checking S3 generic/method consistency ... OK
* checking replacement functions ... OK
* checking foreign function calls ... OK
* checking R code for possible problems ... NOTE
heatmapGenome: no visible binding for global variable ‘floor.func’
readPositionalInfo: no visible binding for global variable ‘RGList’
Undefined global functions or variables:
  RGList floor.func
* checking Rd files ... OK
* checking Rd metadata ... OK
* checking Rd cross-references ... OK
* checking for missing documentation entries ... OK
* checking for code/documentation mismatches ... OK
* checking Rd \usage sections ... OK
* checking Rd contents ... OK
* checking for unstated dependencies in examples ... OK
* checking line endings in C/C++/Fortran sources/headers ... OK
* checking compiled code ... NOTE
Note: information on .o files is not available
* checking sizes of PDF files under ‘inst/doc’ ... OK
* checking files in ‘vignettes’ ... OK
* checking examples ... OK
* checking for unstated dependencies in vignettes ... OK
* checking package vignettes in ‘inst/doc’ ... OK
* checking running R code from vignettes ... SKIPPED
* checking re-building of vignette outputs ... SKIPPED
* checking PDF version of manual ... OK
* DONE

Status: 3 NOTEs
See
  ‘/Users/biocbuild/bbs-3.13-bioc/meat/snapCGH.Rcheck/00check.log’
for details.



Installation output

snapCGH.Rcheck/00install.out

##############################################################################
##############################################################################
###
### Running command:
###
###   /Library/Frameworks/R.framework/Versions/Current/Resources/bin/R CMD INSTALL snapCGH
###
##############################################################################
##############################################################################


* installing to library ‘/Library/Frameworks/R.framework/Versions/4.1/Resources/library’
* installing *source* package ‘snapCGH’ ...
** using staged installation
** libs
clang -mmacosx-version-min=10.13 -I"/Library/Frameworks/R.framework/Resources/include" -DNDEBUG   -I/usr/local/include   -fPIC  -Wall -g -O2  -c optimizer.c -o optimizer.o
optimizer.c:26:23: warning: unused variable 'temp2' [-Wunused-variable]
  double denom, temp, temp2, temp3;
                      ^
optimizer.c:26:10: warning: unused variable 'denom' [-Wunused-variable]
  double denom, temp, temp2, temp3;
         ^
optimizer.c:26:30: warning: unused variable 'temp3' [-Wunused-variable]
  double denom, temp, temp2, temp3;
                             ^
optimizer.c:194:69: warning: unused variable 'alphahat' [-Wunused-variable]
  double gammaA[3][3], gammaB[3][3], gammaC[3][3], alpha[3][nrow1], alphahat[3][nrow1], emis_prob[3][nrow1];
                                                                    ^
optimizer.c:195:30: warning: unused variable 'temp3' [-Wunused-variable]
  double denom, temp, temp2, temp3;
                             ^
optimizer.c:195:23: warning: unused variable 'temp2' [-Wunused-variable]
  double denom, temp, temp2, temp3;
                      ^
optimizer.c:195:10: warning: unused variable 'denom' [-Wunused-variable]
  double denom, temp, temp2, temp3;
         ^
optimizer.c:413:30: warning: unused variable 'temp3' [-Wunused-variable]
  double denom, temp, temp2, temp3;
                             ^
optimizer.c:413:23: warning: unused variable 'temp2' [-Wunused-variable]
  double denom, temp, temp2, temp3;
                      ^
optimizer.c:412:69: warning: unused variable 'alphahat' [-Wunused-variable]
  double gammaA[4][4], gammaB[4][4], gammaC[4][4], alpha[4][nrow1], alphahat[4][nrow1], emis_prob[4][nrow1];
                                                                    ^
optimizer.c:413:10: warning: unused variable 'denom' [-Wunused-variable]
  double denom, temp, temp2, temp3;
         ^
optimizer.c:686:69: warning: unused variable 'alphahat' [-Wunused-variable]
  double gammaA[5][5], gammaB[5][5], gammaC[5][5], alpha[5][nrow1], alphahat[5][nrow1], emis_prob[5][nrow1];
                                                                    ^
optimizer.c:687:10: warning: unused variable 'denom' [-Wunused-variable]
  double denom, temp, temp2, temp3;
         ^
optimizer.c:687:23: warning: unused variable 'temp2' [-Wunused-variable]
  double denom, temp, temp2, temp3;
                      ^
optimizer.c:687:30: warning: unused variable 'temp3' [-Wunused-variable]
  double denom, temp, temp2, temp3;
                             ^
15 warnings generated.
clang -mmacosx-version-min=10.13 -dynamiclib -Wl,-headerpad_max_install_names -undefined dynamic_lookup -single_module -multiply_defined suppress -L/Library/Frameworks/R.framework/Resources/lib -L/usr/local/lib -o snapCGH.so optimizer.o -F/Library/Frameworks/R.framework/.. -framework R -Wl,-framework -Wl,CoreFoundation
installing to /Library/Frameworks/R.framework/Versions/4.1/Resources/library/00LOCK-snapCGH/00new/snapCGH/libs
** R
** inst
** byte-compile and prepare package for lazy loading
** help
*** installing help indices
** building package indices
** installing vignettes
** testing if installed package can be loaded from temporary location
** checking absolute paths in shared objects and dynamic libraries
** testing if installed package can be loaded from final location
** testing if installed package keeps a record of temporary installation path
* DONE (snapCGH)

Tests output


Example timings

snapCGH.Rcheck/snapCGH-Ex.timings

nameusersystemelapsed
LargeDataObject0.0000.0010.000
convert.output0.0020.0010.002
dim0.0020.0010.002