Index of /checkResults/release/bioc-LATEST/slalom/raw-results/lconway
Name
Last modified
Size
Description
Parent Directory
-
buildsrc-out.txt
23-May-2024 00:36
944
buildsrc-summary.dcf
23-May-2024 00:36
340
install-out.txt
23-May-2024 00:36
736
install-summary.dcf
23-May-2024 00:36
269