Index of /checkResults/release/bioc-LATEST/slalom/raw-results/kjohnson3
Name
Last modified
Size
Description
Parent Directory
-
install-summary.dcf
12-Jun-2024 03:44
270
install-out.txt
12-Jun-2024 03:44
2.3K
buildsrc-summary.dcf
12-Jun-2024 03:44
341
buildsrc-out.txt
12-Jun-2024 03:44
2.5K