Index of /checkResults/release/bioc-LATEST/slalom/raw-results/kjohnson1
Name
Last modified
Size
Description
Parent Directory
-
install-summary.dcf
17-Jul-2024 06:43
270
install-out.txt
17-Jul-2024 06:43
2.3K
buildsrc-summary.dcf
17-Jul-2024 06:43
341
buildsrc-out.txt
17-Jul-2024 06:43
2.5K