Name | Last modified | Size | Description | |
---|---|---|---|---|
Parent Directory | - | |||
checksrc-out.txt | 29-Jun-2024 06:42 | 3.7K | ||
buildbin-out.txt | 29-Jun-2024 06:42 | 968 | ||
buildsrc-out.txt | 29-Jun-2024 06:42 | 928 | ||
install-out.txt | 29-Jun-2024 06:42 | 832 | ||
buildbin-summary.dcf | 29-Jun-2024 06:42 | 510 | ||
buildsrc-summary.dcf | 29-Jun-2024 06:42 | 462 | ||
checksrc-summary.dcf | 29-Jun-2024 06:42 | 445 | ||
install-summary.dcf | 29-Jun-2024 06:42 | 267 | ||