Name | Last modified | Size | Description | |
---|---|---|---|---|
Parent Directory | - | |||
checksrc-summary.dcf | 17-Jul-2024 06:39 | 412 | ||
checksrc-out.txt | 17-Jul-2024 06:39 | 3.5K | ||
buildsrc-summary.dcf | 17-Jul-2024 06:39 | 416 | ||
buildsrc-out.txt | 17-Jul-2024 06:39 | 805 | ||
install-summary.dcf | 17-Jul-2024 06:39 | 258 | ||
install-out.txt | 17-Jul-2024 06:39 | 824 | ||