Name | Last modified | Size | Description | |
---|---|---|---|---|
Parent Directory | - | |||
checksrc-out.txt | 12-Jun-2024 03:44 | 3.7K | ||
buildbin-out.txt | 12-Jun-2024 03:44 | 1.0K | ||
install-out.txt | 12-Jun-2024 03:44 | 858 | ||
buildsrc-out.txt | 12-Jun-2024 03:44 | 815 | ||
buildbin-summary.dcf | 12-Jun-2024 03:44 | 527 | ||
checksrc-summary.dcf | 12-Jun-2024 03:44 | 442 | ||
buildsrc-summary.dcf | 12-Jun-2024 03:44 | 426 | ||
install-summary.dcf | 12-Jun-2024 03:44 | 268 | ||