Name | Last modified | Size | Description | |
---|---|---|---|---|
Parent Directory | - | |||
install-summary.dcf | 17-Jul-2024 06:40 | 270 | ||
install-out.txt | 17-Jul-2024 06:40 | 3.6K | ||
checksrc-summary.dcf | 17-Jul-2024 06:40 | 451 | ||
checksrc-out.txt | 17-Jul-2024 06:40 | 5.7K | ||
buildsrc-summary.dcf | 17-Jul-2024 06:40 | 456 | ||
buildsrc-out.txt | 17-Jul-2024 06:40 | 936 | ||
buildbin-summary.dcf | 17-Jul-2024 06:40 | 521 | ||
buildbin-out.txt | 17-Jul-2024 06:40 | 3.7K | ||