Name | Last modified | Size | Description | |
---|---|---|---|---|
Parent Directory | - | |||
install-summary.dcf | 17-Jul-2024 06:39 | 269 | ||
install-out.txt | 17-Jul-2024 06:39 | 1.0K | ||
checksrc-summary.dcf | 17-Jul-2024 06:39 | 434 | ||
checksrc-out.txt | 17-Jul-2024 06:39 | 5.9K | ||
buildsrc-summary.dcf | 17-Jul-2024 06:39 | 432 | ||
buildsrc-out.txt | 17-Jul-2024 06:39 | 889 | ||