Index of /checkResults/release/bioc-LATEST/singleCellTK/raw-results/merida1

[ICO]NameLast modifiedSizeDescription

[DIR]Parent Directory  -  
[TXT]buildbin-out.txt20-Jul-2024 06:40 1.2K 
[   ]buildbin-summary.dcf20-Jul-2024 06:40 561  
[TXT]buildsrc-out.txt20-Jul-2024 06:40 899  
[   ]buildsrc-summary.dcf20-Jul-2024 06:40 443  
[TXT]checksrc-out.txt20-Jul-2024 06:40 7.0K 
[   ]checksrc-summary.dcf20-Jul-2024 06:40 465  
[TXT]install-out.txt20-Jul-2024 06:40 1.0K 
[   ]install-summary.dcf20-Jul-2024 06:40 280