Name | Last modified | Size | Description | |
---|---|---|---|---|
Parent Directory | - | |||
buildsrc-out.txt | 27-Jul-2024 06:38 | 863 | ||
buildsrc-summary.dcf | 27-Jul-2024 06:38 | 413 | ||
checksrc-out.txt | 27-Jul-2024 06:38 | 7.2K | ||
checksrc-summary.dcf | 27-Jul-2024 06:38 | 408 | ||
install-out.txt | 27-Jul-2024 06:38 | 2.9K | ||
install-summary.dcf | 27-Jul-2024 06:38 | 256 | ||