Name | Last modified | Size | Description | |
---|---|---|---|---|
Parent Directory | - | |||
install-summary.dcf | 12-Jun-2024 03:44 | 267 | ||
install-out.txt | 12-Jun-2024 03:44 | 3.4K | ||
checksrc-summary.dcf | 12-Jun-2024 03:44 | 438 | ||
checksrc-out.txt | 12-Jun-2024 03:44 | 7.5K | ||
buildsrc-summary.dcf | 12-Jun-2024 03:44 | 423 | ||
buildsrc-out.txt | 12-Jun-2024 03:44 | 873 | ||
buildbin-summary.dcf | 12-Jun-2024 03:44 | 522 | ||
buildbin-out.txt | 12-Jun-2024 03:44 | 6.9K | ||