Back to Multiple platform build/check report for BioC 3.17:   simplified   long
ABCDEFGHIJKLMNOPQR[S]TUVWXYZ

This page was generated on 2023-09-23 11:36:15 -0400 (Sat, 23 Sep 2023).

HostnameOSArch (*)R versionInstalled pkgs
nebbiolo1Linux (Ubuntu 22.04.2 LTS)x86_644.3.1 (2023-06-16) -- "Beagle Scouts" 4625
palomino3Windows Server 2022 Datacenterx644.3.1 (2023-06-16 ucrt) -- "Beagle Scouts" 4378
merida1macOS 12.6.4 Montereyx86_644.3.1 (2023-06-16) -- "Beagle Scouts" 4394
Click on any hostname to see more info about the system (e.g. compilers)      (*) as reported by 'uname -p', except on Windows and Mac OS X

Package 1914/2230HostnameOS / ArchINSTALLBUILDCHECKBUILD BIN
signatureSearch 1.14.0  (landing page)
Brendan Gongol
Snapshot Date: 2023-09-22 14:00:14 -0400 (Fri, 22 Sep 2023)
git_url: https://git.bioconductor.org/packages/signatureSearch
git_branch: RELEASE_3_17
git_last_commit: e06830a
git_last_commit_date: 2023-04-25 11:14:11 -0400 (Tue, 25 Apr 2023)
nebbiolo1Linux (Ubuntu 22.04.2 LTS) / x86_64  OK    OK    OK  UNNEEDED, same version is already published
palomino3Windows Server 2022 Datacenter / x64  OK    OK    OK    OK  UNNEEDED, same version is already published
merida1macOS 12.6.4 Monterey / x86_64  OK    OK    OK    NA  

CHECK results for signatureSearch on palomino3


To the developers/maintainers of the signatureSearch package:
- Allow up to 24 hours (and sometimes 48 hours) for your latest push to git@git.bioconductor.org:packages/signatureSearch.git to reflect on this report. See Troubleshooting Build Report for more information.
- Use the following Renviron settings to reproduce errors and warnings.
- If 'R CMD check' started to fail recently on the Linux builder(s) over a missing dependency, add the missing dependency to 'Suggests:' in your DESCRIPTION file. See Renviron.bioc for more information.

raw results


Summary

Package: signatureSearch
Version: 1.14.0
Command: F:\biocbuild\bbs-3.17-bioc\R\bin\R.exe CMD check --no-multiarch --install=check:signatureSearch.install-out.txt --library=F:\biocbuild\bbs-3.17-bioc\R\library --no-vignettes --timings signatureSearch_1.14.0.tar.gz
StartedAt: 2023-09-23 06:58:48 -0400 (Sat, 23 Sep 2023)
EndedAt: 2023-09-23 07:06:48 -0400 (Sat, 23 Sep 2023)
EllapsedTime: 480.1 seconds
RetCode: 0
Status:   OK  
CheckDir: signatureSearch.Rcheck
Warnings: 0

Command output

##############################################################################
##############################################################################
###
### Running command:
###
###   F:\biocbuild\bbs-3.17-bioc\R\bin\R.exe CMD check --no-multiarch --install=check:signatureSearch.install-out.txt --library=F:\biocbuild\bbs-3.17-bioc\R\library --no-vignettes --timings signatureSearch_1.14.0.tar.gz
###
##############################################################################
##############################################################################


* using log directory 'F:/biocbuild/bbs-3.17-bioc/meat/signatureSearch.Rcheck'
* using R version 4.3.1 (2023-06-16 ucrt)
* using platform: x86_64-w64-mingw32 (64-bit)
* R was compiled by
    gcc.exe (GCC) 12.2.0
    GNU Fortran (GCC) 12.2.0
* running under: Windows Server 2022 x64 (build 20348)
* using session charset: UTF-8
* using option '--no-vignettes'
* checking for file 'signatureSearch/DESCRIPTION' ... OK
* this is package 'signatureSearch' version '1.14.0'
* package encoding: UTF-8
* checking package namespace information ... OK
* checking package dependencies ... OK
* checking if this is a source package ... OK
* checking if there is a namespace ... OK
* checking for hidden files and directories ... NOTE
Found the following hidden files and directories:
  inst/extdata/.batchtools.conf.R
These were most likely included in error. See section 'Package
structure' in the 'Writing R Extensions' manual.
* checking for portable file names ... OK
* checking whether package 'signatureSearch' can be installed ... OK
* used C compiler: 'gcc.exe (GCC) 12.2.0'
* used C++ compiler: 'G__~1.EXE (GCC) 12.2.0'
* checking C++ specification ... NOTE
  Specified C++11: please drop specification unless essential
* checking installed package size ... NOTE
  installed size is 88.5Mb
  sub-directories of 1Mb or more:
    R        82.8Mb
    data      2.9Mb
    extdata   1.5Mb
    libs      1.0Mb
* checking package directory ... OK
* checking 'build' directory ... OK
* checking DESCRIPTION meta-information ... OK
* checking top-level files ... OK
* checking for left-over files ... OK
* checking index information ... OK
* checking package subdirectories ... OK
* checking R files for non-ASCII characters ... OK
* checking R files for syntax errors ... OK
* checking whether the package can be loaded ... OK
* checking whether the package can be loaded with stated dependencies ... OK
* checking whether the package can be unloaded cleanly ... OK
* checking whether the namespace can be loaded with stated dependencies ... OK
* checking whether the namespace can be unloaded cleanly ... OK
* checking dependencies in R code ... OK
* checking S3 generic/method consistency ... OK
* checking replacement functions ... OK
* checking foreign function calls ... OK
* checking R code for possible problems ... OK
* checking Rd files ... OK
* checking Rd metadata ... OK
* checking Rd cross-references ... OK
* checking for missing documentation entries ... OK
* checking for code/documentation mismatches ... OK
* checking Rd \usage sections ... OK
* checking Rd contents ... OK
* checking for unstated dependencies in examples ... OK
* checking contents of 'data' directory ... OK
* checking data for non-ASCII characters ... NOTE
  Note: found 147 marked UTF-8 strings
* checking LazyData ... OK
* checking data for ASCII and uncompressed saves ... OK
* checking R/sysdata.rda ... OK
* checking line endings in C/C++/Fortran sources/headers ... OK
* checking compiled code ... NOTE
Note: information on .o files for x64 is not available
File 'F:/biocbuild/bbs-3.17-bioc/R/library/signatureSearch/libs/x64/signatureSearch.dll':
  Found 'abort', possibly from 'abort' (C), 'runtime' (Fortran)
  Found 'exit', possibly from 'exit' (C), 'stop' (Fortran)

Compiled code should not call entry points which might terminate R nor
write to stdout/stderr instead of to the console, nor use Fortran I/O
nor system RNGs nor [v]sprintf. The detected symbols are linked into
the code but might come from libraries and not actually be called.

See 'Writing portable packages' in the 'Writing R Extensions' manual.
* checking files in 'vignettes' ... OK
* checking examples ... OK
Examples with CPU (user + system) or elapsed time > 5s
               user system elapsed
set_readable  47.66   3.27   51.03
runWF         26.08   3.23   39.22
rand_query_ES  7.77   0.32    8.38
addGESSannot   3.92   1.88    8.25
* checking for unstated dependencies in 'tests' ... OK
* checking tests ...
  Running 'testthat.R'
 OK
* checking for unstated dependencies in vignettes ... OK
* checking package vignettes in 'inst/doc' ... OK
* checking running R code from vignettes ... SKIPPED
* checking re-building of vignette outputs ... SKIPPED
* checking PDF version of manual ... OK
* DONE

Status: 5 NOTEs
See
  'F:/biocbuild/bbs-3.17-bioc/meat/signatureSearch.Rcheck/00check.log'
for details.



Installation output

signatureSearch.Rcheck/00install.out

##############################################################################
##############################################################################
###
### Running command:
###
###   F:\biocbuild\bbs-3.17-bioc\R\bin\R.exe CMD INSTALL signatureSearch
###
##############################################################################
##############################################################################


* installing to library 'F:/biocbuild/bbs-3.17-bioc/R/library'
* installing *source* package 'signatureSearch' ...
** using staged installation
** libs
using C compiler: 'gcc.exe (GCC) 12.2.0'
using C++ compiler: 'G__~1.EXE (GCC) 12.2.0'
using C++11
g++  -std=gnu++11 -I"F:/biocbuild/bbs-3.17-bioc/R/include" -DNDEBUG  -I'F:/biocbuild/bbs-3.17-bioc/R/library/Rcpp/include'   -I"C:/rtools43/x86_64-w64-mingw32.static.posix/include"     -O2 -Wall  -mfpmath=sse -msse2 -mstackrealign  -c RcppExports.cpp -o RcppExports.o
g++  -std=gnu++11 -I"F:/biocbuild/bbs-3.17-bioc/R/include" -DNDEBUG  -I'F:/biocbuild/bbs-3.17-bioc/R/library/Rcpp/include'   -I"C:/rtools43/x86_64-w64-mingw32.static.posix/include"     -O2 -Wall  -mfpmath=sse -msse2 -mstackrealign  -c fastGSEA.cpp -o fastGSEA.o
fastGSEA.cpp: In function 'Rcpp::NumericVector calcGseaStatBatchCpp(const Rcpp::NumericVector&, const Rcpp::List&, const Rcpp::IntegerVector&)':
fastGSEA.cpp:444:27: warning: comparison of integer expressions of different signedness: 'int' and 'std::vector<int>::size_type' {aka 'long long unsigned int'} [-Wsign-compare]
  444 |         for (int j = 0; j < S.size(); ++j) {
      |                         ~~^~~~~~~~~~
gcc  -I"F:/biocbuild/bbs-3.17-bioc/R/include" -DNDEBUG  -I'F:/biocbuild/bbs-3.17-bioc/R/library/Rcpp/include'   -I"C:/rtools43/x86_64-w64-mingw32.static.posix/include"     -O2 -Wall  -mfpmath=sse -msse2 -mstackrealign  -c fgsea_init.c -o fgsea_init.o
g++ -shared -s -static-libgcc -o signatureSearch.dll tmp.def RcppExports.o fastGSEA.o fgsea_init.o -LC:/rtools43/x86_64-w64-mingw32.static.posix/lib/x64 -LC:/rtools43/x86_64-w64-mingw32.static.posix/lib -LF:/biocbuild/bbs-3.17-bioc/R/bin/x64 -lR
installing to F:/biocbuild/bbs-3.17-bioc/R/library/00LOCK-signatureSearch/00new/signatureSearch/libs/x64
** R
** data
*** moving datasets to lazyload DB
** inst
** byte-compile and prepare package for lazy loading
** help
*** installing help indices
** building package indices
** installing vignettes
** testing if installed package can be loaded from temporary location
** testing if installed package can be loaded from final location
** testing if installed package keeps a record of temporary installation path
* DONE (signatureSearch)

Tests output

signatureSearch.Rcheck/tests/testthat.Rout


R version 4.3.1 (2023-06-16 ucrt) -- "Beagle Scouts"
Copyright (C) 2023 The R Foundation for Statistical Computing
Platform: x86_64-w64-mingw32/x64 (64-bit)

R is free software and comes with ABSOLUTELY NO WARRANTY.
You are welcome to redistribute it under certain conditions.
Type 'license()' or 'licence()' for distribution details.

R is a collaborative project with many contributors.
Type 'contributors()' for more information and
'citation()' on how to cite R or R packages in publications.

Type 'demo()' for some demos, 'help()' for on-line help, or
'help.start()' for an HTML browser interface to help.
Type 'q()' to quit R.

> # library(testthat)
> # library(signatureSearch)
> # 
> # test_check("signatureSearch")
> 
> proc.time()
   user  system elapsed 
   0.15    0.04    0.18 

Example timings

signatureSearch.Rcheck/signatureSearch-Ex.timings

nameusersystemelapsed
addGESSannot3.921.888.25
addMOA0.170.010.18
add_pcid000
append2H50.050.020.21
build_custom_db0.280.030.45
cellNtestPlot0.830.061.16
cell_info0.020.000.01
cell_info20.030.020.05
chembl_moa_list0.010.000.02
clue_moa_list0.000.010.01
comp_fea_res0.170.000.17
create_empty_h50.000.020.03
dim-methods000
drug_cell_ranks0.020.000.02
drugs-methods000
drugs100.000.010.02
dtnetplot1.980.302.81
enrichGO2000
enrichKEGG2000
enrichMOA0.050.000.06
enrichReactome000
fea0.000.020.02
feaResult000
gctx2h50.450.081.06
gess000
gessResult000
gess_res_vis0.250.010.27
getSig1.330.251.66
getTreats0.500.090.62
get_targets3.300.243.59
gmt2h50.090.030.47
gseGO20.000.020.02
gseKEGG2000
gseReactome0.010.000.01
head-methods000
lincs_expr_inst_info0.050.000.05
lincs_pert_info0.10.00.1
lincs_pert_info20.200.040.25
lincs_sig_info0.110.020.12
list2df000
list_rev000
mabsGO0.000.010.02
mabsKEGG0.010.000.01
mabsReactome000
matrix2h50.100.020.17
meanExpr2h50.450.111.02
moa_conn0.020.010.03
parse_gctx0.060.020.08
qSig1.010.231.40
rand_query_ES7.770.328.38
read_gmt000
result-methods0.030.000.03
runWF26.08 3.2339.22
set_readable47.66 3.2751.03
show-methods0.030.000.03
sim_score_grp0.010.000.02
tail-methods000
tarReduce000
targetList0.000.010.01
vec_char_redu000