Back to Multiple platform build/check report for BioC 3.16:   simplified   long
ABCDEFGHIJKLMNOPQR[S]TUVWXYZ

This page was generated on 2023-03-24 11:06:19 -0400 (Fri, 24 Mar 2023).

HostnameOSArch (*)R versionInstalled pkgs
nebbiolo2Linux (Ubuntu 20.04.5 LTS)x86_644.2.3 (2023-03-15) -- "Shortstop Beagle" 4286
palomino4Windows Server 2022 Datacenterx644.2.3 (2023-03-15 ucrt) -- "Shortstop Beagle" 4276
lconwaymacOS 12.5.1 Montereyx86_644.2.3 (2023-03-15) -- "Shortstop Beagle" 4303
Click on any hostname to see more info about the system (e.g. compilers)      (*) as reported by 'uname -p', except on Windows and Mac OS X

BUILD results for seqsetvis on palomino4


To the developers/maintainers of the seqsetvis package:
- Please allow up to 24 hours (and sometimes 48 hours) for your latest push to git@git.bioconductor.org:packages/seqsetvis.git to
reflect on this report. See How and When does the builder pull? When will my changes propagate? for more information.
- Make sure to use the following settings in order to reproduce any error or warning you see on this page.

raw results

Package 1849/2183HostnameOS / ArchINSTALLBUILDCHECKBUILD BIN
seqsetvis 1.18.1  (landing page)
Joseph R Boyd
Snapshot Date: 2023-03-22 14:00:04 -0400 (Wed, 22 Mar 2023)
git_url: https://git.bioconductor.org/packages/seqsetvis
git_branch: RELEASE_3_16
git_last_commit: 70b164b
git_last_commit_date: 2023-02-24 08:53:30 -0400 (Fri, 24 Feb 2023)
nebbiolo2Linux (Ubuntu 20.04.5 LTS) / x86_64  OK    OK    OK  UNNEEDED, same version is already published
palomino4Windows Server 2022 Datacenter / x64  OK    OK    OK    OK  UNNEEDED, same version is already published
lconwaymacOS 12.5.1 Monterey / x86_64  OK    OK    OK    OK  UNNEEDED, same version is already published

Summary

Package: seqsetvis
Version: 1.18.1
Command: chmod a+r seqsetvis -R && F:\biocbuild\bbs-3.16-bioc\R\bin\R.exe CMD build --keep-empty-dirs --no-resave-data seqsetvis
StartedAt: 2023-03-22 21:41:17 -0400 (Wed, 22 Mar 2023)
EndedAt: 2023-03-22 21:43:06 -0400 (Wed, 22 Mar 2023)
EllapsedTime: 108.2 seconds
RetCode: 0
Status:   OK  
PackageFile: seqsetvis_1.18.1.tar.gz
PackageFileSize: 1.167 MiB

Command output

##############################################################################
##############################################################################
###
### Running command:
###
###   chmod a+r seqsetvis -R && F:\biocbuild\bbs-3.16-bioc\R\bin\R.exe CMD build --keep-empty-dirs --no-resave-data seqsetvis
###
##############################################################################
##############################################################################


* checking for file 'seqsetvis/DESCRIPTION' ... OK
* preparing 'seqsetvis':
* checking DESCRIPTION meta-information ... OK
* installing the package to build vignettes
* creating vignettes ... OK
* checking for LF line-endings in source and make files and shell scripts
* checking for empty or unneeded directories
* building 'seqsetvis_1.18.1.tar.gz'