Back to Multiple platform build/check report for BioC 3.17:   simplified   long
ABCDEFGHIJKLMNOPQR[S]TUVWXYZ

This page was generated on 2023-09-21 11:35:47 -0400 (Thu, 21 Sep 2023).

HostnameOSArch (*)R versionInstalled pkgs
nebbiolo1Linux (Ubuntu 22.04.2 LTS)x86_644.3.1 (2023-06-16) -- "Beagle Scouts" 4625
palomino3Windows Server 2022 Datacenterx644.3.1 (2023-06-16 ucrt) -- "Beagle Scouts" 4378
merida1macOS 12.6.4 Montereyx86_644.3.1 (2023-06-16) -- "Beagle Scouts" 4394
Click on any hostname to see more info about the system (e.g. compilers)      (*) as reported by 'uname -p', except on Windows and Mac OS X

Package 1893/2230HostnameOS / ArchINSTALLBUILDCHECKBUILD BIN
seqsetvis 1.20.0  (landing page)
Joseph R Boyd
Snapshot Date: 2023-09-20 14:00:09 -0400 (Wed, 20 Sep 2023)
git_url: https://git.bioconductor.org/packages/seqsetvis
git_branch: RELEASE_3_17
git_last_commit: 99963de
git_last_commit_date: 2023-04-25 11:00:32 -0400 (Tue, 25 Apr 2023)
nebbiolo1Linux (Ubuntu 22.04.2 LTS) / x86_64  OK    OK    OK  UNNEEDED, same version is already published
palomino3Windows Server 2022 Datacenter / x64  OK    OK    OK    OK  UNNEEDED, same version is already published
merida1macOS 12.6.4 Monterey / x86_64  OK    OK    OK    NA  

CHECK results for seqsetvis on palomino3


To the developers/maintainers of the seqsetvis package:
- Allow up to 24 hours (and sometimes 48 hours) for your latest push to git@git.bioconductor.org:packages/seqsetvis.git to reflect on this report. See Troubleshooting Build Report for more information.
- Use the following Renviron settings to reproduce errors and warnings.
- If 'R CMD check' started to fail recently on the Linux builder(s) over a missing dependency, add the missing dependency to 'Suggests:' in your DESCRIPTION file. See Renviron.bioc for more information.

raw results


Summary

Package: seqsetvis
Version: 1.20.0
Command: F:\biocbuild\bbs-3.17-bioc\R\bin\R.exe CMD check --no-multiarch --install=check:seqsetvis.install-out.txt --library=F:\biocbuild\bbs-3.17-bioc\R\library --no-vignettes --timings seqsetvis_1.20.0.tar.gz
StartedAt: 2023-09-21 06:53:18 -0400 (Thu, 21 Sep 2023)
EndedAt: 2023-09-21 07:01:53 -0400 (Thu, 21 Sep 2023)
EllapsedTime: 515.1 seconds
RetCode: 0
Status:   OK  
CheckDir: seqsetvis.Rcheck
Warnings: 0

Command output

##############################################################################
##############################################################################
###
### Running command:
###
###   F:\biocbuild\bbs-3.17-bioc\R\bin\R.exe CMD check --no-multiarch --install=check:seqsetvis.install-out.txt --library=F:\biocbuild\bbs-3.17-bioc\R\library --no-vignettes --timings seqsetvis_1.20.0.tar.gz
###
##############################################################################
##############################################################################


* using log directory 'F:/biocbuild/bbs-3.17-bioc/meat/seqsetvis.Rcheck'
* using R version 4.3.1 (2023-06-16 ucrt)
* using platform: x86_64-w64-mingw32 (64-bit)
* R was compiled by
    gcc.exe (GCC) 12.2.0
    GNU Fortran (GCC) 12.2.0
* running under: Windows Server 2022 x64 (build 20348)
* using session charset: UTF-8
* using option '--no-vignettes'
* checking for file 'seqsetvis/DESCRIPTION' ... OK
* checking extension type ... Package
* this is package 'seqsetvis' version '1.20.0'
* package encoding: UTF-8
* checking package namespace information ... OK
* checking package dependencies ... OK
* checking if this is a source package ... OK
* checking if there is a namespace ... OK
* checking for hidden files and directories ... OK
* checking for portable file names ... OK
* checking whether package 'seqsetvis' can be installed ... OK
* checking installed package size ... OK
* checking package directory ... OK
* checking 'build' directory ... OK
* checking DESCRIPTION meta-information ... OK
* checking top-level files ... OK
* checking for left-over files ... OK
* checking index information ... OK
* checking package subdirectories ... OK
* checking R files for non-ASCII characters ... OK
* checking R files for syntax errors ... OK
* checking whether the package can be loaded ... OK
* checking whether the package can be loaded with stated dependencies ... OK
* checking whether the package can be unloaded cleanly ... OK
* checking whether the namespace can be loaded with stated dependencies ... OK
* checking whether the namespace can be unloaded cleanly ... OK
* checking dependencies in R code ... OK
* checking S3 generic/method consistency ... OK
* checking replacement functions ... OK
* checking foreign function calls ... OK
* checking R code for possible problems ... NOTE
ssvSignalBandedQuantiles: no visible binding for global variable 'x'
ssvSignalLineplotAgg: no visible binding for global variable 'y'
Undefined global functions or variables:
  x y
* checking Rd files ... OK
* checking Rd metadata ... OK
* checking Rd cross-references ... OK
* checking for missing documentation entries ... OK
* checking for code/documentation mismatches ... OK
* checking Rd \usage sections ... OK
* checking Rd contents ... OK
* checking for unstated dependencies in examples ... OK
* checking contents of 'data' directory ... OK
* checking data for non-ASCII characters ... OK
* checking LazyData ... OK
* checking data for ASCII and uncompressed saves ... OK
* checking files in 'vignettes' ... OK
* checking examples ... OK
Examples with CPU (user + system) or elapsed time > 5s
                        user system elapsed
ssvFeatureBinaryHeatmap 5.83   0.41    6.25
merge_clusters          5.66   0.00    6.42
add_cluster_annotation  3.65   0.10    7.22
reorder_clusters_hclust 2.61   0.02    9.50
copy_clust_info         2.46   0.01    7.61
append_ynorm            0.06   0.01    5.69
* checking for unstated dependencies in 'tests' ... OK
* checking tests ...
  Running 'testthat.R'
 OK
* checking for unstated dependencies in vignettes ... OK
* checking package vignettes in 'inst/doc' ... OK
* checking running R code from vignettes ... SKIPPED
* checking re-building of vignette outputs ... SKIPPED
* checking PDF version of manual ... OK
* DONE

Status: 1 NOTE
See
  'F:/biocbuild/bbs-3.17-bioc/meat/seqsetvis.Rcheck/00check.log'
for details.



Installation output

seqsetvis.Rcheck/00install.out

##############################################################################
##############################################################################
###
### Running command:
###
###   F:\biocbuild\bbs-3.17-bioc\R\bin\R.exe CMD INSTALL seqsetvis
###
##############################################################################
##############################################################################


* installing to library 'F:/biocbuild/bbs-3.17-bioc/R/library'
* installing *source* package 'seqsetvis' ...
** using staged installation
** R
** data
*** moving datasets to lazyload DB
** inst
** byte-compile and prepare package for lazy loading
** help
*** installing help indices
** building package indices
** installing vignettes
** testing if installed package can be loaded from temporary location
** testing if installed package can be loaded from final location
** testing if installed package keeps a record of temporary installation path
* DONE (seqsetvis)

Tests output

seqsetvis.Rcheck/tests/testthat.Rout


R version 4.3.1 (2023-06-16 ucrt) -- "Beagle Scouts"
Copyright (C) 2023 The R Foundation for Statistical Computing
Platform: x86_64-w64-mingw32/x64 (64-bit)

R is free software and comes with ABSOLUTELY NO WARRANTY.
You are welcome to redistribute it under certain conditions.
Type 'license()' or 'licence()' for distribution details.

R is a collaborative project with many contributors.
Type 'contributors()' for more information and
'citation()' on how to cite R or R packages in publications.

Type 'demo()' for some demos, 'help()' for on-line help, or
'help.start()' for an HTML browser interface to help.
Type 'q()' to quit R.

> 
> ## load dependencies
> library(testthat)
> library(seqsetvis)
Loading required package: ggplot2
> library(data.table)
> 
> ## test package
> test_check(package = "seqsetvis")
[ FAIL 0 | WARN 0 | SKIP 37 | PASS 716 ]

══ Skipped tests (37) ══════════════════════════════════════════════════════════
• On Windows (37): 'test_anchor.R:108:5', 'test_anchor.R:163:5',
  'test_fetchBam.R:98:5', 'test_fetchBam.R:142:5', 'test_fetchBam.R:170:5',
  'test_fetchBam.R:201:5', 'test_fetchBw.R:17:5', 'test_fetchBw.R:32:5',
  'test_fetchBw.R:46:5', 'test_fetchBw.R:63:5', 'test_fetchBw.R:73:5',
  'test_fetchBw.R:86:5', 'test_fetchBw.R:97:5', 'test_fetchBw.R:108:5',
  'test_fetchBw.R:120:5', 'test_fetchBw.R:143:5', 'test_fetchBw.R:153:5',
  'test_fetchBw.R:165:5', 'test_fetchBw.R:175:5', 'test_fetchBw.R:190:5',
  'test_fetchBw.R:205:5', 'test_fetchBw.R:220:5', 'test_fetchBw_dt.R:15:5',
  'test_fetchBw_dt.R:31:5', 'test_fetchBw_dt.R:46:5', 'test_fetchBw_dt.R:64:5',
  'test_fetchBw_dt.R:74:5', 'test_fetchBw_dt.R:87:5', 'test_fetchBw_dt.R:98:5',
  'test_fetchBw_dt.R:109:5', 'test_fetchBw_dt.R:121:5',
  'test_fetchBw_dt.R:133:5', 'test_fetch_parallel.R:16:5',
  'test_fetch_parallel.R:44:5', 'test_force_skip.R:33:5',
  'test_viewGrangesWin_sample_vs_summary.R:115:5',
  'test_viewGrangesWin_sample_vs_summary.R:136:5'

[ FAIL 0 | WARN 0 | SKIP 37 | PASS 716 ]
> 
> proc.time()
   user  system elapsed 
 176.32    3.42  180.01 

Example timings

seqsetvis.Rcheck/seqsetvis-Ex.timings

nameusersystemelapsed
add_cluster_annotation3.650.107.22
append_ynorm0.060.015.69
applySpline0.670.054.69
assemble_heatmap_cluster_bars1.140.032.15
calc_norm_factors0.020.000.02
centerAtMax0.330.000.33
centerFixedSizeGRanges0.170.000.17
centerGRangesAtMax0.360.010.37
clusteringKmeans0.000.020.02
clusteringKmeansNestedHclust0.010.000.01
col2hex0.020.000.02
collapse_gr0.980.031.05
convert_collapsed_coord0.180.050.21
copy_clust_info2.460.017.61
crossCorrByRle0.540.000.60
easyLoad_FUN0.060.000.54
easyLoad_IDRmerged0.060.001.27
easyLoad_bed0.20.00.2
easyLoad_broadPeak0.100.000.41
easyLoad_narrowPeak0.080.000.34
easyLoad_seacr0.090.000.23
expandCigar0.250.011.94
fragLen_calcStranded2.560.033.27
fragLen_fromMacs2Xls0.020.000.15
getReadLength0.080.000.19
get_mapped_reads0.010.000.02
ggellipse0.910.020.92
harmonize_seqlengths0.140.050.19
make_clustering_matrix0.120.012.25
merge_clusters5.660.006.42
prepare_fetch_GRanges0.030.000.03
prepare_fetch_GRanges_names0.130.000.12
prepare_fetch_GRanges_width0.040.000.05
quantileGRangesWidth000
reorder_clusters_hclust2.610.029.50
reorder_clusters_manual1.000.001.23
reorder_clusters_stepdown1.640.001.65
reverse_clusters1.810.011.84
safeBrew0.040.000.03
split_cluster1.620.071.70
ssvConsensusIntervalSets0.310.000.32
ssvFactorizeMembTable0.020.000.01
ssvFeatureBars1.340.041.39
ssvFeatureBinaryHeatmap5.830.416.25
ssvFeatureEuler0.490.060.55
ssvFeaturePie0.570.020.59
ssvFeatureUpset2.640.002.64
ssvFeatureVenn0.600.020.61
ssvFetchBam000
ssvFetchBamPE000
ssvFetchBigwig000
ssvFetchGRanges0.720.000.72
ssvFetchSignal1.390.031.42
ssvMakeMembTable-methods0.480.000.48
ssvOverlapIntervalSets0.220.020.24
ssvSignalBandedQuantiles4.840.044.90
ssvSignalClustering1.910.001.91
ssvSignalHeatmap.ClusterBars2.980.033.02
ssvSignalHeatmap3.480.083.56
ssvSignalLineplot2.990.043.03
ssvSignalLineplotAgg1.060.051.11
ssvSignalScatterplot0.950.000.95
viewGRangesWinSample_dt1.070.021.08
viewGRangesWinSummary_dt0.970.031.00
within_clust_sort1.500.011.53