Back to Multiple platform build/check report for BioC 3.16: simplified long |
|
This page was generated on 2023-03-24 11:05:42 -0400 (Fri, 24 Mar 2023).
Hostname | OS | Arch (*) | R version | Installed pkgs |
---|---|---|---|---|
nebbiolo2 | Linux (Ubuntu 20.04.5 LTS) | x86_64 | 4.2.3 (2023-03-15) -- "Shortstop Beagle" | 4286 |
palomino4 | Windows Server 2022 Datacenter | x64 | 4.2.3 (2023-03-15 ucrt) -- "Shortstop Beagle" | 4276 |
lconway | macOS 12.5.1 Monterey | x86_64 | 4.2.3 (2023-03-15) -- "Shortstop Beagle" | 4303 |
Click on any hostname to see more info about the system (e.g. compilers) (*) as reported by 'uname -p', except on Windows and Mac OS X |
To the developers/maintainers of the seqsetvis package: - Please allow up to 24 hours (and sometimes 48 hours) for your latest push to git@git.bioconductor.org:packages/seqsetvis.git to reflect on this report. See How and When does the builder pull? When will my changes propagate? for more information. - Make sure to use the following settings in order to reproduce any error or warning you see on this page. |
Package 1849/2183 | Hostname | OS / Arch | INSTALL | BUILD | CHECK | BUILD BIN | ||||||||
seqsetvis 1.18.1 (landing page) Joseph R Boyd
| nebbiolo2 | Linux (Ubuntu 20.04.5 LTS) / x86_64 | OK | OK | OK | ![]() | ||||||||
palomino4 | Windows Server 2022 Datacenter / x64 | OK | OK | OK | OK | ![]() | ||||||||
lconway | macOS 12.5.1 Monterey / x86_64 | OK | OK | OK | OK | ![]() | ||||||||
Package: seqsetvis |
Version: 1.18.1 |
Command: /home/biocbuild/bbs-3.16-bioc/R/bin/R CMD check --install=check:seqsetvis.install-out.txt --library=/home/biocbuild/bbs-3.16-bioc/R/site-library --timings seqsetvis_1.18.1.tar.gz |
StartedAt: 2023-03-23 00:10:56 -0400 (Thu, 23 Mar 2023) |
EndedAt: 2023-03-23 00:20:28 -0400 (Thu, 23 Mar 2023) |
EllapsedTime: 571.6 seconds |
RetCode: 0 |
Status: OK |
CheckDir: seqsetvis.Rcheck |
Warnings: 0 |
############################################################################## ############################################################################## ### ### Running command: ### ### /home/biocbuild/bbs-3.16-bioc/R/bin/R CMD check --install=check:seqsetvis.install-out.txt --library=/home/biocbuild/bbs-3.16-bioc/R/site-library --timings seqsetvis_1.18.1.tar.gz ### ############################################################################## ############################################################################## * using log directory ‘/home/biocbuild/bbs-3.16-bioc/meat/seqsetvis.Rcheck’ * using R version 4.2.3 (2023-03-15) * using platform: x86_64-pc-linux-gnu (64-bit) * using session charset: UTF-8 * checking for file ‘seqsetvis/DESCRIPTION’ ... OK * checking extension type ... Package * this is package ‘seqsetvis’ version ‘1.18.1’ * package encoding: UTF-8 * checking package namespace information ... OK * checking package dependencies ... OK * checking if this is a source package ... OK * checking if there is a namespace ... OK * checking for hidden files and directories ... OK * checking for portable file names ... OK * checking for sufficient/correct file permissions ... OK * checking whether package ‘seqsetvis’ can be installed ... OK * checking installed package size ... OK * checking package directory ... OK * checking ‘build’ directory ... OK * checking DESCRIPTION meta-information ... OK * checking top-level files ... OK * checking for left-over files ... OK * checking index information ... OK * checking package subdirectories ... OK * checking R files for non-ASCII characters ... OK * checking R files for syntax errors ... OK * checking whether the package can be loaded ... OK * checking whether the package can be loaded with stated dependencies ... OK * checking whether the package can be unloaded cleanly ... OK * checking whether the namespace can be loaded with stated dependencies ... OK * checking whether the namespace can be unloaded cleanly ... OK * checking loading without being on the library search path ... OK * checking dependencies in R code ... OK * checking S3 generic/method consistency ... OK * checking replacement functions ... OK * checking foreign function calls ... OK * checking R code for possible problems ... OK * checking Rd files ... OK * checking Rd metadata ... OK * checking Rd cross-references ... OK * checking for missing documentation entries ... OK * checking for code/documentation mismatches ... OK * checking Rd \usage sections ... OK * checking Rd contents ... OK * checking for unstated dependencies in examples ... OK * checking contents of ‘data’ directory ... OK * checking data for non-ASCII characters ... OK * checking LazyData ... OK * checking data for ASCII and uncompressed saves ... OK * checking files in ‘vignettes’ ... OK * checking examples ... OK Examples with CPU (user + system) or elapsed time > 5s user system elapsed ssvFeatureBinaryHeatmap 7.546 0.444 7.990 ssvFetchBam 5.881 0.036 5.882 * checking for unstated dependencies in ‘tests’ ... OK * checking tests ... Running ‘testthat.R’ OK * checking for unstated dependencies in vignettes ... OK * checking package vignettes in ‘inst/doc’ ... OK * checking running R code from vignettes ... ‘seqsetvis_overview.Rmd’ using ‘UTF-8’... OK NONE * checking re-building of vignette outputs ... OK * checking PDF version of manual ... OK * DONE Status: OK
seqsetvis.Rcheck/00install.out
############################################################################## ############################################################################## ### ### Running command: ### ### /home/biocbuild/bbs-3.16-bioc/R/bin/R CMD INSTALL seqsetvis ### ############################################################################## ############################################################################## * installing to library ‘/home/biocbuild/bbs-3.16-bioc/R/site-library’ * installing *source* package ‘seqsetvis’ ... ** using staged installation ** R ** data *** moving datasets to lazyload DB ** inst ** byte-compile and prepare package for lazy loading ** help *** installing help indices ** building package indices ** installing vignettes ** testing if installed package can be loaded from temporary location ** testing if installed package can be loaded from final location ** testing if installed package keeps a record of temporary installation path * DONE (seqsetvis)
seqsetvis.Rcheck/tests/testthat.Rout
R version 4.2.3 (2023-03-15) -- "Shortstop Beagle" Copyright (C) 2023 The R Foundation for Statistical Computing Platform: x86_64-pc-linux-gnu (64-bit) R is free software and comes with ABSOLUTELY NO WARRANTY. You are welcome to redistribute it under certain conditions. Type 'license()' or 'licence()' for distribution details. R is a collaborative project with many contributors. Type 'contributors()' for more information and 'citation()' on how to cite R or R packages in publications. Type 'demo()' for some demos, 'help()' for on-line help, or 'help.start()' for an HTML browser interface to help. Type 'q()' to quit R. > > ## load dependencies > library(testthat) > library(seqsetvis) Loading required package: ggplot2 > library(data.table) > > ## test package > test_check(package = "seqsetvis") [ FAIL 0 | WARN 3 | SKIP 0 | PASS 1182 ] [ FAIL 0 | WARN 3 | SKIP 0 | PASS 1182 ] > > proc.time() user system elapsed 233.335 3.154 233.029
seqsetvis.Rcheck/seqsetvis-Ex.timings
name | user | system | elapsed | |
add_cluster_annotation | 3.527 | 0.329 | 3.805 | |
append_ynorm | 0.055 | 0.000 | 0.033 | |
applySpline | 0.470 | 0.023 | 0.457 | |
assemble_heatmap_cluster_bars | 0.662 | 0.020 | 0.651 | |
calc_norm_factors | 0.015 | 0.004 | 0.011 | |
centerAtMax | 0.306 | 0.004 | 0.263 | |
centerFixedSizeGRanges | 0.124 | 0.000 | 0.124 | |
centerGRangesAtMax | 0.37 | 0.00 | 0.33 | |
clusteringKmeans | 0.053 | 0.004 | 0.034 | |
clusteringKmeansNestedHclust | 0.031 | 0.000 | 0.021 | |
col2hex | 0.002 | 0.000 | 0.001 | |
collapse_gr | 0.642 | 0.024 | 0.665 | |
convert_collapsed_coord | 0.213 | 0.008 | 0.221 | |
copy_clust_info | 1.718 | 0.052 | 1.692 | |
crossCorrByRle | 0.558 | 0.004 | 0.563 | |
easyLoad_FUN | 0.096 | 0.000 | 0.095 | |
easyLoad_IDRmerged | 0.085 | 0.004 | 0.090 | |
easyLoad_bed | 0.186 | 0.000 | 0.186 | |
easyLoad_broadPeak | 0.051 | 0.004 | 0.056 | |
easyLoad_narrowPeak | 0.054 | 0.000 | 0.055 | |
easyLoad_seacr | 0.063 | 0.000 | 0.063 | |
expandCigar | 0.261 | 0.004 | 0.246 | |
fragLen_calcStranded | 2.156 | 0.040 | 2.191 | |
fragLen_fromMacs2Xls | 0.002 | 0.000 | 0.002 | |
getReadLength | 0.054 | 0.000 | 0.054 | |
get_mapped_reads | 0.01 | 0.00 | 0.01 | |
ggellipse | 0.573 | 0.012 | 0.586 | |
harmonize_seqlengths | 0.111 | 0.004 | 0.114 | |
make_clustering_matrix | 0.043 | 0.000 | 0.035 | |
merge_clusters | 4.014 | 0.104 | 4.025 | |
prepare_fetch_GRanges | 0.022 | 0.004 | 0.026 | |
prepare_fetch_GRanges_names | 0.07 | 0.00 | 0.07 | |
prepare_fetch_GRanges_width | 0.025 | 0.000 | 0.024 | |
quantileGRangesWidth | 0.001 | 0.000 | 0.001 | |
reorder_clusters_hclust | 1.700 | 0.020 | 1.672 | |
reorder_clusters_manual | 0.963 | 0.024 | 0.944 | |
reorder_clusters_stepdown | 1.696 | 0.040 | 1.688 | |
reverse_clusters | 2.004 | 0.016 | 1.920 | |
safeBrew | 0.022 | 0.000 | 0.022 | |
split_cluster | 1.794 | 0.020 | 1.721 | |
ssvConsensusIntervalSets | 0.305 | 0.008 | 0.312 | |
ssvFactorizeMembTable | 0.015 | 0.004 | 0.020 | |
ssvFeatureBars | 0.908 | 0.008 | 0.915 | |
ssvFeatureBinaryHeatmap | 7.546 | 0.444 | 7.990 | |
ssvFeatureEuler | 0.532 | 0.000 | 0.532 | |
ssvFeaturePie | 0.761 | 0.048 | 0.808 | |
ssvFeatureUpset | 2.673 | 0.024 | 2.697 | |
ssvFeatureVenn | 0.601 | 0.000 | 0.601 | |
ssvFetchBam | 5.881 | 0.036 | 5.882 | |
ssvFetchBamPE | 1.901 | 0.016 | 1.918 | |
ssvFetchBigwig | 1.358 | 0.056 | 1.414 | |
ssvFetchGRanges | 0.864 | 0.000 | 0.864 | |
ssvFetchSignal | 1.465 | 0.016 | 1.481 | |
ssvMakeMembTable-methods | 0.518 | 0.004 | 0.522 | |
ssvOverlapIntervalSets | 0.254 | 0.004 | 0.258 | |
ssvSignalBandedQuantiles | 4.787 | 0.044 | 4.705 | |
ssvSignalClustering | 2.144 | 0.016 | 2.065 | |
ssvSignalHeatmap.ClusterBars | 3.027 | 0.032 | 2.886 | |
ssvSignalHeatmap | 4.742 | 0.136 | 4.649 | |
ssvSignalLineplot | 2.216 | 0.000 | 2.210 | |
ssvSignalLineplotAgg | 1.106 | 0.008 | 1.087 | |
ssvSignalScatterplot | 0.841 | 0.016 | 0.815 | |
viewGRangesWinSample_dt | 1.153 | 0.008 | 1.155 | |
viewGRangesWinSummary_dt | 1.161 | 0.000 | 1.133 | |
within_clust_sort | 1.414 | 0.020 | 1.373 | |