Name | Last modified | Size | Description | |
---|---|---|---|---|
Parent Directory | - | |||
buildbin-out.txt | 05-Mar-2024 01:39 | 4.9K | ||
buildbin-summary.dcf | 05-Mar-2024 01:39 | 536 | ||
buildsrc-out.txt | 05-Mar-2024 01:39 | 850 | ||
buildsrc-summary.dcf | 05-Mar-2024 01:39 | 430 | ||
checksrc-out.txt | 05-Mar-2024 01:39 | 7.7K | ||
checksrc-summary.dcf | 05-Mar-2024 01:39 | 453 | ||
install-out.txt | 05-Mar-2024 01:39 | 2.8K | ||
install-summary.dcf | 05-Mar-2024 01:39 | 271 | ||