Name | Last modified | Size | Description | |
---|---|---|---|---|
Parent Directory | - | |||
buildbin-summary.dcf | 17-Jul-2024 06:41 | 548 | ||
buildbin-out.txt | 17-Jul-2024 06:41 | 1.2K | ||
checksrc-summary.dcf | 17-Jul-2024 06:41 | 456 | ||
checksrc-out.txt | 17-Jul-2024 06:41 | 3.9K | ||
buildsrc-summary.dcf | 17-Jul-2024 06:41 | 438 | ||
buildsrc-out.txt | 17-Jul-2024 06:41 | 1.1K | ||
install-summary.dcf | 17-Jul-2024 06:41 | 275 | ||
install-out.txt | 17-Jul-2024 06:41 | 1.0K | ||