Back to Multiple platform build/check report for BioC 3.14
ABCDEFGHIJKLMNOPQR[S]TUVWXYZ

This page was generated on 2021-11-29 15:05:39 -0500 (Mon, 29 Nov 2021).

INSTALL results for scry on tokay2

To the developers/maintainers of the scry package:
- Please allow up to 24 hours (and sometimes 48 hours) for your latest push to git@git.bioconductor.org:packages/scry.git to
reflect on this report. See How and When does the builder pull? When will my changes propagate? here for more information.
- Make sure to use the following settings in order to reproduce any error or warning you see on this page.

raw results

Package 1745/2083HostnameOS / ArchINSTALLBUILDCHECKBUILD BIN
scry 1.6.0  (landing page)
Kelly Street
Snapshot Date: 2021-11-28 04:15:06 -0500 (Sun, 28 Nov 2021)
git_url: https://git.bioconductor.org/packages/scry
git_branch: RELEASE_3_14
git_last_commit: e83654b
git_last_commit_date: 2021-10-26 12:59:27 -0500 (Tue, 26 Oct 2021)
nebbiolo2Linux (Ubuntu 20.04.3 LTS) / x86_64  OK    OK    OK  UNNEEDED, same version is already published
tokay2Windows Server 2012 R2 Standard / x64  OK    OK    OK    OK  UNNEEDED, same version is already published
machv2macOS 10.14.6 Mojave / x86_64  OK    OK    OK    OK  UNNEEDED, same version is already published

Summary

Package: scry
Version: 1.6.0
Command: C:\cygwin\bin\curl.exe -O http://155.52.207.166/BBS/3.14/bioc/src/contrib/scry_1.6.0.tar.gz && rm -rf scry.buildbin-libdir && mkdir scry.buildbin-libdir && C:\Users\biocbuild\bbs-3.14-bioc\R\bin\R.exe CMD INSTALL --merge-multiarch --build --library=scry.buildbin-libdir scry_1.6.0.tar.gz && C:\Users\biocbuild\bbs-3.14-bioc\R\bin\R.exe CMD INSTALL scry_1.6.0.zip && rm scry_1.6.0.tar.gz scry_1.6.0.zip
StartedAt: 2021-11-28 07:39:47 -0500 (Sun, 28 Nov 2021)
EndedAt: 2021-11-28 07:40:47 -0500 (Sun, 28 Nov 2021)
EllapsedTime: 60.6 seconds
RetCode: 0
Status:   OK  

Command output

##############################################################################
##############################################################################
###
### Running command:
###
###   C:\cygwin\bin\curl.exe -O http://155.52.207.166/BBS/3.14/bioc/src/contrib/scry_1.6.0.tar.gz && rm -rf scry.buildbin-libdir && mkdir scry.buildbin-libdir && C:\Users\biocbuild\bbs-3.14-bioc\R\bin\R.exe CMD INSTALL --merge-multiarch --build --library=scry.buildbin-libdir scry_1.6.0.tar.gz && C:\Users\biocbuild\bbs-3.14-bioc\R\bin\R.exe CMD INSTALL scry_1.6.0.zip && rm scry_1.6.0.tar.gz scry_1.6.0.zip
###
##############################################################################
##############################################################################


  % Total    % Received % Xferd  Average Speed   Time    Time     Time  Current
                                 Dload  Upload   Total   Spent    Left  Speed

  0     0    0     0    0     0      0      0 --:--:-- --:--:-- --:--:--     0
 50 4485k   50 2248k    0     0  2809k      0  0:00:01 --:--:--  0:00:01 2811k
100 4485k  100 4485k    0     0  3343k      0  0:00:01  0:00:01 --:--:-- 3344k

install for i386

* installing *source* package 'scry' ...
** using staged installation
** R
** inst
** byte-compile and prepare package for lazy loading
** help
*** installing help indices
  converting help for package 'scry'
    finding HTML links ... done
    GLMPCA                                  html  
REDIRECT:topic	 Previous alias or file overwritten by alias: C:/Users/biocbuild/bbs-3.14-bioc/meat/scry.buildbin-libdir/00LOCK-scry/00new/scry/help/GLMPCA+2CMatrix-method.html
    finding level-2 HTML links ... done

    devianceFeatureSelection                html  
REDIRECT:topic	 Previous alias or file overwritten by alias: C:/Users/biocbuild/bbs-3.14-bioc/meat/scry.buildbin-libdir/00LOCK-scry/00new/scry/help/devianceFeatureSelection+2CMatrix-method.html
    nullResiduals                           html  
REDIRECT:topic	 Previous alias or file overwritten by alias: C:/Users/biocbuild/bbs-3.14-bioc/meat/scry.buildbin-libdir/00LOCK-scry/00new/scry/help/nullResiduals+2CMatrix-method.html
** building package indices
** installing vignettes
** testing if installed package can be loaded from temporary location
** testing if installed package can be loaded from final location
** testing if installed package keeps a record of temporary installation path

install for x64

* installing *source* package 'scry' ...
** testing if installed package can be loaded
* MD5 sums
packaged installation of 'scry' as scry_1.6.0.zip
* DONE (scry)
* installing to library 'C:/Users/biocbuild/bbs-3.14-bioc/R/library'
package 'scry' successfully unpacked and MD5 sums checked