Name | Last modified | Size | Description | |
---|---|---|---|---|
Parent Directory | - | |||
install-summary.dcf | 10-May-2024 00:41 | 264 | ||
buildsrc-summary.dcf | 10-May-2024 00:41 | 420 | ||
checksrc-summary.dcf | 10-May-2024 00:41 | 439 | ||
buildsrc-out.txt | 10-May-2024 00:41 | 845 | ||
install-out.txt | 10-May-2024 00:41 | 965 | ||
checksrc-out.txt | 10-May-2024 00:41 | 3.1K | ||