Name | Last modified | Size | Description | |
---|---|---|---|---|
Parent Directory | - | |||
buildsrc-out.txt | 03-Nov-2023 00:41 | 628 | ||
buildsrc-summary.dcf | 03-Nov-2023 00:41 | 328 | ||
checksrc-out.txt | 25-Oct-2023 00:41 | 3.1K | ||
checksrc-summary.dcf | 25-Oct-2023 00:41 | 390 | ||
install-out.txt | 03-Nov-2023 00:41 | 931 | ||
install-summary.dcf | 03-Nov-2023 00:41 | 247 | ||