Back to Multiple platform build/check report for BioC 3.14
ABCDEFGHIJKLMNOPQR[S]TUVWXYZ

This page was generated on 2021-12-03 13:06:04 -0500 (Fri, 03 Dec 2021).

BUILD BIN results for scry on machv2

To the developers/maintainers of the scry package:
- Please allow up to 24 hours (and sometimes 48 hours) for your latest push to git@git.bioconductor.org:packages/scry.git to
reflect on this report. See How and When does the builder pull? When will my changes propagate? here for more information.
- Make sure to use the following settings in order to reproduce any error or warning you see on this page.

raw results

Package 1745/2083HostnameOS / ArchINSTALLBUILDCHECKBUILD BIN
scry 1.6.0  (landing page)
Kelly Street
Snapshot Date: 2021-12-02 01:55:06 -0500 (Thu, 02 Dec 2021)
git_url: https://git.bioconductor.org/packages/scry
git_branch: RELEASE_3_14
git_last_commit: e83654b
git_last_commit_date: 2021-10-26 12:59:27 -0500 (Tue, 26 Oct 2021)
nebbiolo2Linux (Ubuntu 20.04.3 LTS) / x86_64  OK    OK    OK  UNNEEDED, same version is already published
tokay2Windows Server 2012 R2 Standard / x64  OK    OK    OK    OK  UNNEEDED, same version is already published
machv2macOS 10.14.6 Mojave / x86_64  OK    OK    OK    OK  UNNEEDED, same version is already published

Summary

Package: scry
Version: 1.6.0
Command: rm -rf scry.buildbin-libdir && mkdir scry.buildbin-libdir && /Users/biocbuild/BBS/utils/build-universal.sh scry_1.6.0.tar.gz /Library/Frameworks/R.framework/Resources/bin/R scry.buildbin-libdir
StartedAt: 2021-12-02 23:42:44 -0500 (Thu, 02 Dec 2021)
EndedAt: 2021-12-02 23:43:48 -0500 (Thu, 02 Dec 2021)
EllapsedTime: 64.2 seconds
RetCode: 0
Status:   OK  
PackageFile: scry_1.6.0.tgz
PackageFileSize: 4.515 MiB

Command output

##############################################################################
##############################################################################
###
### Running command:
###
###   rm -rf scry.buildbin-libdir && mkdir scry.buildbin-libdir && /Users/biocbuild/BBS/utils/build-universal.sh scry_1.6.0.tar.gz /Library/Frameworks/R.framework/Resources/bin/R scry.buildbin-libdir
###
##############################################################################
##############################################################################


>>>>>>> 
>>>>>>> INSTALLATION WITH 'R CMD INSTALL --preclean --no-multiarch --library=scry.buildbin-libdir scry_1.6.0.tar.gz'
>>>>>>> 

* installing *source* package ‘scry’ ...
** using staged installation
** R
** inst
** byte-compile and prepare package for lazy loading
** help
*** installing help indices
** building package indices
** installing vignettes
** testing if installed package can be loaded from temporary location
** testing if installed package can be loaded from final location
** testing if installed package keeps a record of temporary installation path
* DONE (scry)