Back to Multiple platform build/check report for BioC 3.18:   simplified   long
ABCDEFGHIJKLMNOPQR[S]TUVWXYZ

This page was generated on 2024-03-04 11:36:55 -0500 (Mon, 04 Mar 2024).

HostnameOSArch (*)R versionInstalled pkgs
nebbiolo2Linux (Ubuntu 22.04.3 LTS)x86_644.3.2 Patched (2023-11-13 r85521) -- "Eye Holes" 4692
palomino4Windows Server 2022 Datacenterx644.3.2 (2023-10-31 ucrt) -- "Eye Holes" 4445
lconwaymacOS 12.7.1 Montereyx86_644.3.2 Patched (2023-11-01 r85457) -- "Eye Holes" 4466
Click on any hostname to see more info about the system (e.g. compilers)      (*) as reported by 'uname -p', except on Windows and Mac OS X

Package 1892/2266HostnameOS / ArchINSTALLBUILDCHECKBUILD BIN
scran 1.30.2  (landing page)
Aaron Lun
Snapshot Date: 2024-03-03 14:05:05 -0500 (Sun, 03 Mar 2024)
git_url: https://git.bioconductor.org/packages/scran
git_branch: RELEASE_3_18
git_last_commit: f01bc21
git_last_commit_date: 2024-01-20 01:35:18 -0500 (Sat, 20 Jan 2024)
nebbiolo2Linux (Ubuntu 22.04.3 LTS) / x86_64  OK    OK    WARNINGS  UNNEEDED, same version is already published
palomino4Windows Server 2022 Datacenter / x64  OK    OK    WARNINGS    OK  UNNEEDED, same version is already published
lconwaymacOS 12.7.1 Monterey / x86_64  OK    OK    WARNINGS    OK  UNNEEDED, same version is already published
kjohnson1macOS 13.6.1 Ventura / arm64see weekly results here

BUILD results for scran on palomino4


To the developers/maintainers of the scran package:
- Allow up to 24 hours (and sometimes 48 hours) for your latest push to git@git.bioconductor.org:packages/scran.git to reflect on this report. See Troubleshooting Build Report for more information.
- Use the following Renviron settings to reproduce errors and warnings.
- If 'R CMD check' started to fail recently on the Linux builder(s) over a missing dependency, add the missing dependency to 'Suggests:' in your DESCRIPTION file. See Renviron.bioc for more information.

raw results


Summary

Package: scran
Version: 1.30.2
Command: chmod a+r scran -R && F:\biocbuild\bbs-3.18-bioc\R\bin\R.exe CMD build --keep-empty-dirs --no-resave-data scran
StartedAt: 2024-03-03 21:35:33 -0500 (Sun, 03 Mar 2024)
EndedAt: 2024-03-03 21:39:43 -0500 (Sun, 03 Mar 2024)
EllapsedTime: 249.9 seconds
RetCode: 0
Status:   OK  
PackageFile: scran_1.30.2.tar.gz
PackageFileSize: 1.009 MiB

Command output

##############################################################################
##############################################################################
###
### Running command:
###
###   chmod a+r scran -R && F:\biocbuild\bbs-3.18-bioc\R\bin\R.exe CMD build --keep-empty-dirs --no-resave-data scran
###
##############################################################################
##############################################################################


* checking for file 'scran/DESCRIPTION' ... OK
* preparing 'scran':
* checking DESCRIPTION meta-information ... OK
* cleaning src
* installing the package to build vignettes
* creating vignettes ... OK
* cleaning src
* checking for LF line-endings in source and make files and shell scripts
* checking for empty or unneeded directories
* building 'scran_1.30.2.tar.gz'