Name | Last modified | Size | Description | |
---|---|---|---|---|
Parent Directory | - | |||
checksrc-out.txt | 29-Jun-2024 06:40 | 11K | ||
checksrc-summary.dcf | 29-Jun-2024 06:40 | 406 | ||
buildsrc-out.txt | 29-Jun-2024 06:40 | 861 | ||
buildsrc-summary.dcf | 29-Jun-2024 06:40 | 412 | ||
install-summary.dcf | 29-Jun-2024 06:40 | 255 | ||
install-out.txt | 29-Jun-2024 06:40 | 954 | ||