Index of /checkResults/release/bioc-LATEST/scmeth/raw-results/riesling1

[ICO]NameLast modifiedSizeDescription

[DIR]Parent Directory  -  
[TXT]buildbin-out.txt01-Feb-2022 01:08 1.8K 
[   ]buildbin-summary.dcf01-Feb-2022 01:08 509  
[TXT]buildsrc-out.txt19-Mar-2022 00:08 2.5K 
[   ]buildsrc-summary.dcf19-Mar-2022 00:08 365  
[TXT]checksrc-out.txt01-Feb-2022 01:08 3.2K 
[   ]checksrc-summary.dcf01-Feb-2022 01:08 443  
[TXT]install-out.txt19-Mar-2022 00:08 1.7K 
[   ]install-summary.dcf19-Mar-2022 00:08 266