Index of /checkResults/release/bioc-LATEST/scmeth/raw-results/nebbiolo1

[ICO]NameLast modifiedSizeDescription

[DIR]Parent Directory  -  
[TXT]buildsrc-out.txt28-Jun-2022 00:10 842  
[   ]buildsrc-summary.dcf28-Jun-2022 00:10 414  
[TXT]checksrc-out.txt28-Jun-2022 00:10 3.3K 
[   ]checksrc-summary.dcf28-Jun-2022 00:10 420  
[TXT]install-out.txt28-Jun-2022 00:10 944  
[   ]install-summary.dcf28-Jun-2022 00:10 257