Index of /checkResults/release/bioc-LATEST/scmeth/raw-results/merida1

[ICO]NameLast modifiedSizeDescription

[DIR]Parent Directory  -  
[TXT]buildbin-out.txt23-Jun-2022 01:08 1.1K 
[   ]buildbin-summary.dcf23-Jun-2022 01:08 522  
[TXT]buildsrc-out.txt25-Jun-2022 01:08 852  
[   ]buildsrc-summary.dcf25-Jun-2022 01:08 425  
[TXT]checksrc-out.txt25-Jun-2022 01:08 3.3K 
[   ]checksrc-summary.dcf25-Jun-2022 01:08 440  
[TXT]install-out.txt25-Jun-2022 01:08 1.0K 
[   ]install-summary.dcf25-Jun-2022 01:08 267