Index of /checkResults/release/bioc-LATEST/scifer/raw-results
Name
Last modified
Size
Description
Parent Directory
-
info.dcf
10-May-2024 00:36
289
kunpeng2/
10-May-2024 00:41
-
lconway/
10-May-2024 00:40
-
merida1/
05-Mar-2024 01:39
-
nebbiolo1/
10-May-2024 00:37
-
palomino3/
10-May-2024 00:38
-