Back to Multiple platform build/check report for BioC 3.14
ABCDEFGHIJKLMNOPQR[S]TUVWXYZ

This page was generated on 2021-12-03 13:05:31 -0500 (Fri, 03 Dec 2021).

INSTALL results for scater on tokay2

To the developers/maintainers of the scater package:
- Please allow up to 24 hours (and sometimes 48 hours) for your latest push to git@git.bioconductor.org:packages/scater.git to
reflect on this report. See How and When does the builder pull? When will my changes propagate? here for more information.
- Make sure to use the following settings in order to reproduce any error or warning you see on this page.

raw results

Package 1710/2083HostnameOS / ArchINSTALLBUILDCHECKBUILD BIN
scater 1.22.0  (landing page)
Alan O'Callaghan
Snapshot Date: 2021-12-02 01:55:06 -0500 (Thu, 02 Dec 2021)
git_url: https://git.bioconductor.org/packages/scater
git_branch: RELEASE_3_14
git_last_commit: ea2c95c
git_last_commit_date: 2021-10-26 12:25:30 -0500 (Tue, 26 Oct 2021)
nebbiolo2Linux (Ubuntu 20.04.3 LTS) / x86_64  OK    OK    OK  UNNEEDED, same version is already published
tokay2Windows Server 2012 R2 Standard / x64  OK    OK    OK    OK  UNNEEDED, same version is already published
machv2macOS 10.14.6 Mojave / x86_64  OK    OK    OK    OK  UNNEEDED, same version is already published

Summary

Package: scater
Version: 1.22.0
Command: C:\cygwin\bin\curl.exe -O http://155.52.207.166/BBS/3.14/bioc/src/contrib/scater_1.22.0.tar.gz && rm -rf scater.buildbin-libdir && mkdir scater.buildbin-libdir && C:\Users\biocbuild\bbs-3.14-bioc\R\bin\R.exe CMD INSTALL --merge-multiarch --build --library=scater.buildbin-libdir scater_1.22.0.tar.gz && C:\Users\biocbuild\bbs-3.14-bioc\R\bin\R.exe CMD INSTALL scater_1.22.0.zip && rm scater_1.22.0.tar.gz scater_1.22.0.zip
StartedAt: 2021-12-02 06:14:24 -0500 (Thu, 02 Dec 2021)
EndedAt: 2021-12-02 06:15:24 -0500 (Thu, 02 Dec 2021)
EllapsedTime: 60.2 seconds
RetCode: 0
Status:   OK  

Command output

##############################################################################
##############################################################################
###
### Running command:
###
###   C:\cygwin\bin\curl.exe -O http://155.52.207.166/BBS/3.14/bioc/src/contrib/scater_1.22.0.tar.gz && rm -rf scater.buildbin-libdir && mkdir scater.buildbin-libdir && C:\Users\biocbuild\bbs-3.14-bioc\R\bin\R.exe CMD INSTALL --merge-multiarch --build --library=scater.buildbin-libdir scater_1.22.0.tar.gz && C:\Users\biocbuild\bbs-3.14-bioc\R\bin\R.exe CMD INSTALL scater_1.22.0.zip && rm scater_1.22.0.tar.gz scater_1.22.0.zip
###
##############################################################################
##############################################################################


  % Total    % Received % Xferd  Average Speed   Time    Time     Time  Current
                                 Dload  Upload   Total   Spent    Left  Speed

  0     0    0     0    0     0      0      0 --:--:-- --:--:-- --:--:--     0
100 1065k  100 1065k    0     0  2596k      0 --:--:-- --:--:-- --:--:-- 2604k

install for i386

* installing *source* package 'scater' ...
** using staged installation
** R
** inst
** byte-compile and prepare package for lazy loading
** help
*** installing help indices
  converting help for package 'scater'
    finding HTML links ... done
    SCESet                                  html  
    accessors                               html  
    finding level-2 HTML links ... done

    annotateBMFeatures                      html  
    bootstraps                              html  
    defunct                                 html  
    getExplanatoryPCs                       html  
    getVarianceExplained                    html  
    ggsce                                   html  
    multiplot                               html  
    nexprs                                  html  
    plotColData                             html  
    plotDots                                html  
    plotExplanatoryPCs                      html  
    plotExplanatoryVariables                html  
    plotExpression                          html  
    plotGroupedHeatmap                      html  
    plotHeatmap                             html  
    plotHighestExprs                        html  
    plotPlatePosition                       html  
    plotRLE                                 html  
    plotReducedDim                          html  
    plotRowData                             html  
    plotScater                              html  
    plot_reddim                             html  
    reexports                               html  
    retrieveCellInfo                        html  
    retrieveFeatureInfo                     html  
    runColDataPCA                           html  
    runDiffusionMap                         html  
    runMDS                                  html  
    runMultiUMAP                            html  
    runNMF                                  html  
    runPCA                                  html  
    runTSNE                                 html  
    runUMAP                                 html  
    scater-pkg                              html  
    scater-plot-args                        html  
    toSingleCellExperiment                  html  
** building package indices
** installing vignettes
** testing if installed package can be loaded from temporary location
** testing if installed package can be loaded from final location
** testing if installed package keeps a record of temporary installation path

install for x64

* installing *source* package 'scater' ...
** testing if installed package can be loaded
* MD5 sums
packaged installation of 'scater' as scater_1.22.0.zip
* DONE (scater)
* installing to library 'C:/Users/biocbuild/bbs-3.14-bioc/R/library'
package 'scater' successfully unpacked and MD5 sums checked