Back to Multiple platform build/check report for BioC 3.14
ABCDEFGHIJKLMNOPQR[S]TUVWXYZ

This page was generated on 2021-11-29 15:06:10 -0500 (Mon, 29 Nov 2021).

BUILD results for scater on machv2

To the developers/maintainers of the scater package:
- Please allow up to 24 hours (and sometimes 48 hours) for your latest push to git@git.bioconductor.org:packages/scater.git to
reflect on this report. See How and When does the builder pull? When will my changes propagate? here for more information.
- Make sure to use the following settings in order to reproduce any error or warning you see on this page.

raw results

Package 1710/2083HostnameOS / ArchINSTALLBUILDCHECKBUILD BIN
scater 1.22.0  (landing page)
Alan O'Callaghan
Snapshot Date: 2021-11-28 04:15:06 -0500 (Sun, 28 Nov 2021)
git_url: https://git.bioconductor.org/packages/scater
git_branch: RELEASE_3_14
git_last_commit: ea2c95c
git_last_commit_date: 2021-10-26 12:25:30 -0500 (Tue, 26 Oct 2021)
nebbiolo2Linux (Ubuntu 20.04.3 LTS) / x86_64  OK    OK    OK  UNNEEDED, same version is already published
tokay2Windows Server 2012 R2 Standard / x64  OK    OK    OK    OK  UNNEEDED, same version is already published
machv2macOS 10.14.6 Mojave / x86_64  OK    OK    OK    OK  UNNEEDED, same version is already published

Summary

Package: scater
Version: 1.22.0
Command: /Library/Frameworks/R.framework/Resources/bin/R CMD build --keep-empty-dirs --no-resave-data scater
StartedAt: 2021-11-28 11:51:06 -0500 (Sun, 28 Nov 2021)
EndedAt: 2021-11-28 11:55:43 -0500 (Sun, 28 Nov 2021)
EllapsedTime: 277.6 seconds
RetCode: 0
Status:   OK  
PackageFile: scater_1.22.0.tar.gz
PackageFileSize: 3.909 MiB

Command output

##############################################################################
##############################################################################
###
### Running command:
###
###   /Library/Frameworks/R.framework/Resources/bin/R CMD build --keep-empty-dirs --no-resave-data scater
###
##############################################################################
##############################################################################


* checking for file ‘scater/DESCRIPTION’ ... OK
* preparing ‘scater’:
* checking DESCRIPTION meta-information ... OK
* installing the package to build vignettes
* creating vignettes ... OK
* checking for LF line-endings in source and make files and shell scripts
* checking for empty or unneeded directories
* building ‘scater_1.22.0.tar.gz’