Index of /checkResults/release/bioc-LATEST/scTensor/raw-results/riesling1

[ICO]NameLast modifiedSizeDescription

[DIR]Parent Directory  -  
[TXT]buildbin-out.txt19-Mar-2022 00:08 2.0K 
[   ]buildbin-summary.dcf19-Mar-2022 00:08 518  
[TXT]buildsrc-out.txt19-Mar-2022 00:08 936  
[   ]buildsrc-summary.dcf19-Mar-2022 00:08 455  
[TXT]checksrc-out.txt19-Mar-2022 00:08 3.4K 
[   ]checksrc-summary.dcf19-Mar-2022 00:08 449  
[TXT]install-out.txt19-Mar-2022 00:08 1.9K 
[   ]install-summary.dcf19-Mar-2022 00:08 269