Index of /checkResults/release/bioc-LATEST/scTensor/raw-results/palomino3

[ICO]NameLast modifiedSizeDescription

[DIR]Parent Directory  -  
[TXT]buildbin-out.txt02-Jul-2022 01:07 1.1K 
[   ]buildbin-summary.dcf02-Jul-2022 01:07 518  
[TXT]buildsrc-out.txt02-Jul-2022 01:07 936  
[   ]buildsrc-summary.dcf02-Jul-2022 01:07 455  
[TXT]checksrc-out.txt02-Jul-2022 01:07 3.4K 
[   ]checksrc-summary.dcf02-Jul-2022 01:07 449  
[TXT]install-out.txt02-Jul-2022 01:07 1.0K 
[   ]install-summary.dcf02-Jul-2022 01:07 269