Name | Last modified | Size | Description | |
---|---|---|---|---|
Parent Directory | - | |||
checksrc-out.txt | 22-Jun-2024 06:38 | 5.1K | ||
checksrc-summary.dcf | 22-Jun-2024 06:38 | 422 | ||
install-summary.dcf | 17-Jul-2024 06:39 | 261 | ||
install-out.txt | 17-Jul-2024 06:39 | 1.0K | ||
buildsrc-out.txt | 17-Jul-2024 06:39 | 1.9K | ||
buildsrc-summary.dcf | 17-Jul-2024 06:39 | 336 | ||