Name | Last modified | Size | Description | |
---|---|---|---|---|
Parent Directory | - | |||
checksrc-out.txt | 22-Jun-2024 06:41 | 3.8K | ||
buildsrc-out.txt | 17-Jul-2024 06:41 | 2.0K | ||
buildbin-out.txt | 22-Jun-2024 06:41 | 1.2K | ||
install-out.txt | 17-Jul-2024 06:41 | 1.0K | ||
buildbin-summary.dcf | 22-Jun-2024 06:41 | 537 | ||
checksrc-summary.dcf | 22-Jun-2024 06:41 | 454 | ||
buildsrc-summary.dcf | 17-Jul-2024 06:41 | 346 | ||
install-summary.dcf | 17-Jul-2024 06:41 | 272 | ||