Name | Last modified | Size | Description | |
---|---|---|---|---|
Parent Directory | - | |||
buildsrc-out.txt | 19-May-2024 00:36 | 855 | ||
buildsrc-summary.dcf | 19-May-2024 00:36 | 431 | ||
checksrc-out.txt | 19-May-2024 00:36 | 4.1K | ||
checksrc-summary.dcf | 19-May-2024 00:36 | 432 | ||
install-out.txt | 19-May-2024 00:36 | 2.6K | ||
install-summary.dcf | 19-May-2024 00:36 | 268 | ||